BEGIN:VCALENDAR
VERSION:2.0
PRODID:-//ChamberMaster//Event Calendar 2.0//EN
METHOD:PUBLISH
X-PUBLISHED-TTL:P3D
REFRESH-INTERVAL:P3D
CALSCALE:GREGORIAN
BEGIN:VEVENT
DTSTART:20140509T180000Z
DTEND:20140509T190000Z
X-MICROSOFT-CDO-ALLDAYEVENT:FALSE
SUMMARY:Dickey's Barbecue Pit Ribbon Cutting
DESCRIPTION:Ribbon Cutting
X-ALT-DESC;FMTTYPE=text/html:Ribbon Cutting
LOCATION:1024 North Main Street STE 13 Tooele\, UT 84074
UID:e.125.5082
SEQUENCE:3
DTSTAMP:20260419T181602Z
URL:https://members.tooelechamber.com/events/details/dickey-s-barbecue-pit-ribbon-cutting-05-09-2014-5082
END:VEVENT

END:VCALENDAR
