BEGIN:VCALENDAR
VERSION:2.0
PRODID:-//ChamberMaster//Event Calendar 2.0//EN
METHOD:PUBLISH
X-PUBLISHED-TTL:P3D
REFRESH-INTERVAL:P3D
CALSCALE:GREGORIAN
BEGIN:VEVENT
DTSTART:20100317T150000Z
DTEND:20100317T180000Z
X-MICROSOFT-CDO-ALLDAYEVENT:FALSE
SUMMARY:Division of Homeland Security Ready Your Business Workshop
DESCRIPTION:Utah Department of Public SafetyDivision of Homeland SecurityReady Your Business12 Point Program toBusiness Continuity Planning Every Business should have a plan...   It just makes good businesss sense! Date: Wednesday\, March 17thTime: 9 am - 12 pmPlace: Tooele County Emergency Management and Sheriff's Office15 East 100 South\, Tooele Points 1-6: Create a Planning Team/ Continuity of AuthorityCommunications - Risks & Hazards - Internal & External Resources- Vulnerability Assessments - Essential Business Functions Points 7-12: Human Resources - Workplace Evacuations & Sheltering- Supply Kits - Insurance Reviews - Vital Records - Data: Protect/Store/ Recover Complete ALL 12 Points in any order and receive the Recognition of Readiness Award There is NO COST for this workshopSPACE IS LIMITED Must RSVP to debbie@tooelechamber.com
X-ALT-DESC;FMTTYPE=text/html:<div style="text-align: center"><span style="font-size: small">Utah Department of Public Safety</span></div><div style="text-align: center"><span style="font-size: small">Division of Homeland Security</span></div><div style="text-align: center"><strong><span style="font-size: medium">Ready Your Business</span></strong></div><div style="text-align: center"><span style="font-size: small">12 Point Program to</span></div><div style="text-align: center"><span style="font-size: small">Business Continuity Planning</span></div><div style="text-align: center">&nbsp\;</div><div style="text-align: center"><span style="font-size: small"><strong>Every Business should have a plan...</strong></span></div><div style="text-align: center"><span style="font-size: small"><strong>&nbsp\;&nbsp\; </strong><em><strong>It just makes good businesss sense!</strong></em></span></div><div style="text-align: center">&nbsp\;</div><div style="text-align: center"><span style="font-size: small"><em><strong><div style="text-align: center"><small><span style="font-size: small">Date: Wednesday\, March 17th</span></small></div><div style="text-align: center"><small><span style="font-size: small">Time: 9 am - 12 pm</span></small></div><div style="text-align: center"><small><span style="font-size: small">Place: Tooele County Emergency </span></small></div><div style="text-align: center"><small><span style="font-size: small">Management and Sheriff's Office</span></small></div><div style="text-align: center"><small><span style="font-size: small">15 East 100 South\, Tooele</span></small></div></strong></em></span></div><div style="text-align: center">&nbsp\;</div><div style="text-align: center"><span style="font-size: small">Points 1-6: Create a Planning Team/ Continuity of Authority</span></div><div style="text-align: center"><span style="font-size: small">Communications - Risks &amp\; Hazards - Internal &amp\; External Resources</span></div><div style="text-align: center"><span style="font-size: small">- Vulnerability Assessments - Essential Business Functions</span></div><div style="text-align: center">&nbsp\;</div><div style="text-align: center"><span style="font-size: small">Points 7-12: Human Resources - Workplace Evacuations &amp\;&nbsp\;Sheltering</span></div><div style="text-align: center"><span style="font-size: small">- Supply Kits - Insurance Reviews - Vital Records - Data: Protect/Store/ Recover</span></div><div style="text-align: center">&nbsp\;</div><div style="text-align: center"><span style="font-size: small">Complete ALL 12 Points in any order and receive the </span></div><div style="text-align: center"><span style="font-size: small">Recognition of Readiness Award</span></div><div style="text-align: center">&nbsp\;</div><div style="text-align: center"><strong><span style="color: #ff0000"><span style="font-size: small">There is NO COST for&nbsp\;this workshop</span></span></strong></div><div style="text-align: center"><strong><span style="color: #ff0000"><span style="font-size: small">SPACE IS LIMITED </span></span></strong></div><div style="text-align: center"><strong><span style="color: #ff0000"><span style="font-size: small">Must RSVP to </span></span></strong><span style="font-size: small"><a href="mailto:debbie@tooelechamber.com"><strong><span style="color: #ff0000">debbie@tooelechamber.com</span></strong></a></span></div><div style="text-align: center"><strong>&nbsp\;</strong></div><div style="text-align: center">&nbsp\;</div><div style="text-align: center">&nbsp\;</div><div style="text-align: center">&nbsp\;</div>
LOCATION:
UID:e.125.3110
SEQUENCE:3
DTSTAMP:20260423T080717Z
URL:https://members.tooelechamber.com/events/details/division-of-homeland-security-ready-your-business-workshop-03-17-2010-3110
END:VEVENT

END:VCALENDAR
