BEGIN:VCALENDAR
VERSION:2.0
PRODID:-//ChamberMaster//Event Calendar 2.0//EN
METHOD:PUBLISH
X-PUBLISHED-TTL:P3D
REFRESH-INTERVAL:P3D
CALSCALE:GREGORIAN
BEGIN:VEVENT
DTSTART:20130420T150000Z
DTEND:20130420T180000Z
X-MICROSOFT-CDO-ALLDAYEVENT:FALSE
SUMMARY:Domestic Violence Fun Run/Walk
DESCRIPTION:
X-ALT-DESC;FMTTYPE=text/html:
LOCATION:
UID:e.125.5024
SEQUENCE:3
DTSTAMP:20260420T195938Z
URL:https://members.tooelechamber.com/events/details/domestic-violence-fun-run-walk-04-20-2013-5024
END:VEVENT

END:VCALENDAR
