BEGIN:VCALENDAR
VERSION:2.0
PRODID:-//ChamberMaster//Event Calendar 2.0//EN
METHOD:PUBLISH
X-PUBLISHED-TTL:P3D
REFRESH-INTERVAL:P3D
CALSCALE:GREGORIAN
BEGIN:VEVENT
DTSTART;VALUE=DATE:20081031
DTEND;VALUE=DATE:20081101
TRANSP:TRANSPARENT
X-MICROSOFT-CDO-ALLDAYEVENT:TRUE
SUMMARY:Downtown Trick or Treat
DESCRIPTION:The Downtown Alliance is sponsoring the Downtown Trick or Treat again this year! Last year there were about 3\,000 ghosts\, goblins and other scary guests roaming downtown\, visiting the stores and gathering delicious treats. The event will be on October 31st\, Halloween (of course) from 4-7 pm. Here is the list of downtown businesses that are participating:  WalgreensAdvance PayTooele City HallTranscript BulletinB&D TitleStowe Family MusicInk AutoThe Home TouchZacatecas MarketMr. ApplianceCurt Morris\, Attorney At LawTooele CountyHomebodiesThomas PhotographyOquirrh TradersAnything CuteLincareTangles SalonSweet Pea BoutiquePaisy Mae's Nails & BoutiqueExtreme SatellitesParts PlusComp JunkiesSweat FitnessVine Street Lock ShopMare's PlaceNu CleanersUpgrades\, Etc.Dimitri'sModern VictoriaDairy DelightChamber of CommerceSearsComputek ComputersAllied FlooringPioneer MuseumClar's Auto  Look for the stores with the orange balloons to know which ones are participating in this fun event!Some places are offering pictures or places to take pictures so bring your camera!
X-ALT-DESC;FMTTYPE=text/html:<div align="center"><div style="margin: 0in 0in 0pt">The Downtown Alliance is sponsoring&nbsp\;the Downtown Trick or Treat again this year! Last year there were about 3\,000 ghosts\, goblins and other scary guests roaming downtown\, visiting the stores and gathering delicious treats. The event will be on October 31<sup>st</sup>\, Halloween (of course) from 4-7 pm.</div><div style="margin: 0in 0in 0pt">&nbsp\;</div><div style="margin: 0in 0in 0pt">Here is the list of downtown businesses that are participating:</div><div style="margin: 0in 0in 0pt">&nbsp\;</div></div><div><span style="font-size: 12pt"><div align="center">&nbsp\;</div></span></div><div style="margin: 0in 0in 0pt" align="center">Walgreens</div><div style="margin: 0in 0in 0pt" align="center">Advance Pay</div><div style="margin: 0in 0in 0pt" align="center">Tooele City Hall</div><div style="margin: 0in 0in 0pt" align="center">Transcript Bulletin</div><div style="margin: 0in 0in 0pt" align="center">B&amp\;D Title</div><div style="margin: 0in 0in 0pt" align="center">Stowe Family Music</div><div style="margin: 0in 0in 0pt" align="center">Ink Auto</div><div style="margin: 0in 0in 0pt" align="center">The Home Touch</div><div style="margin: 0in 0in 0pt" align="center">Zacatecas Market</div><div style="margin: 0in 0in 0pt" align="center">Mr. Appliance</div><div style="margin: 0in 0in 0pt" align="center">Curt Morris\, Attorney At Law</div><div style="margin: 0in 0in 0pt" align="center">Tooele County</div><div style="margin: 0in 0in 0pt" align="center">Homebodies</div><div style="margin: 0in 0in 0pt" align="center">Thomas Photography</div><div style="margin: 0in 0in 0pt" align="center">Oquirrh Traders</div><div style="margin: 0in 0in 0pt" align="center">Anything Cute</div><div style="margin: 0in 0in 0pt" align="center">Lincare</div><div style="margin: 0in 0in 0pt" align="center">Tangles Salon</div><div style="margin: 0in 0in 0pt" align="center">Sweet Pea Boutique</div><div style="margin: 0in 0in 0pt" align="center">Paisy Mae&rsquo\;s Nails &amp\; Boutique</div><div style="margin: 0in 0in 0pt" align="center">Extreme Satellites</div><div style="margin: 0in 0in 0pt" align="center">Parts Plus</div><div style="margin: 0in 0in 0pt" align="center">Comp Junkies</div><div style="margin: 0in 0in 0pt" align="center">Sweat Fitness</div><div style="margin: 0in 0in 0pt" align="center">Vine Street Lock Shop</div><div style="margin: 0in 0in 0pt" align="center">Mare&rsquo\;s Place</div><div style="margin: 0in 0in 0pt" align="center">Nu Cleaners</div><div style="margin: 0in 0in 0pt" align="center">Upgrades\, Etc.</div><div style="margin: 0in 0in 0pt" align="center">Dimitri&rsquo\;s</div><div style="margin: 0in 0in 0pt" align="center">Modern Victoria</div><div style="margin: 0in 0in 0pt" align="center">Dairy Delight</div><div style="margin: 0in 0in 0pt" align="center">Chamber of Commerce</div><div style="margin: 0in 0in 0pt" align="center">Sears</div><div style="margin: 0in 0in 0pt" align="center">Computek Computers</div><div style="margin: 0in 0in 0pt" align="center">Allied Flooring</div><div style="margin: 0in 0in 0pt" align="center">Pioneer Museum</div><div style="margin: 0in 0in 0pt" align="center">Clar&rsquo\;s Auto</div><div><span style="font-size: 12pt"><div align="center">&nbsp\;</div></span></div><div style="margin: 0in 0in 0pt" align="center">&nbsp\;</div><div style="margin: 0in 0in 0pt" align="center">Look for the stores with the orange balloons to know which ones are participating in this fun event!</div><div style="margin: 0in 0in 0pt" align="center">Some places are offering pictures or places to take pictures so bring your camera!</div>
LOCATION:
UID:e.125.468
SEQUENCE:3
DTSTAMP:20260424T104749Z
URL:https://members.tooelechamber.com/events/details/downtown-trick-or-treat-10-31-2008-468
END:VEVENT

END:VCALENDAR
