BEGIN:VCALENDAR
VERSION:2.0
PRODID:-//ChamberMaster//Event Calendar 2.0//EN
METHOD:PUBLISH
X-PUBLISHED-TTL:P3D
REFRESH-INTERVAL:P3D
CALSCALE:GREGORIAN
BEGIN:VEVENT
DTSTART:20091031T220000Z
DTEND:20091101T010000Z
X-MICROSOFT-CDO-ALLDAYEVENT:FALSE
SUMMARY:Downtown Trick or Treat
DESCRIPTION:The Downtown Alliance is sponsoring the Downtown Trick or Treat again thisyear! Last year there were about 3\,500 ghosts\, goblins and other scaryguests roaming downtown\, visiting the stores and gathering delicioustreats. The event will be on October 31st (of course!)from 4-7 pm.Here are some of the stores to visit for special treats:Tooele City HallTranscript BulletinStowe Family MusicThe Home TouchSweet Pea BoutiqueSearsDimitri'sRoni's SignsNu CleanersHomebodiesJ&J JewelryTooele CountyMare's PlaceWalgreensSpencer's ArtsGranny's ClosetExtreme SatellitesUpgrades\, Etc.Computek ComputersPioneer MuseumSandee JewelsTip Top ComputersEkonomy CleanersAffordable CutsTooele OverstockBig 5 Sporting GoodsThomas PhotographyGrinders Board ShopAnything CuteSome places are offering pictures or places to takepictures so bring your camera! There will be vendors atVeterans Park selling hot dogs\, drinks and other funtreats! Look for maps at downtown stores!
X-ALT-DESC;FMTTYPE=text/html:<div><font face="Verdana" size="1"><font face="Verdana" size="1"><p align="left">The Downtown Alliance is sponsoring the Downtown Trick or Treat again this</p><p align="left">year! Last year there were about 3\,500 ghosts\, goblins and other scary</p><p align="left">guests roaming downtown\, visiting the stores and gathering delicious</p><p align="left">treats. The event will be on October 31st (of course!)</p><p align="left">from 4-7 pm.Here are some of the stores to visit for special treats:</p><p align="left">Tooele City Hall</p><p align="left">Transcript Bulletin</p><p align="left">Stowe Family Music</p><p align="left">The Home Touch</p><p align="left">Sweet Pea Boutique</p><p align="left">Sears</p><p align="left">Dimitri&rsquo\;s</p><p align="left">Roni&rsquo\;s Signs</p><p align="left">Nu Cleaners</p><p align="left">Homebodies</p><p align="left">J&amp\;J Jewelry</p><p align="left">Tooele County</p><p align="left">Mare&rsquo\;s Place</p><p align="left">Walgreens</p><p align="left">Spencer&rsquo\;s Arts</p><p align="left">Granny&rsquo\;s Closet</p><p align="left">Extreme Satellites</p><p align="left">Upgrades\, Etc.</p><p align="left">Computek Computers</p><p align="left">Pioneer Museum</p><p align="left">Sandee Jewels</p><p align="left">Tip Top Computers</p><p align="left">Ekonomy Cleaners</p><p align="left">Affordable Cuts</p><p align="left">Tooele Overstock</p><p align="left">Big 5 Sporting Goods</p><p align="left">Thomas Photography</p><p align="left">Grinders Board Shop</p><p align="left">Anything Cute</p></font></font><font face="ComicSansMS" size="1"><font face="ComicSansMS" size="1"><p align="left">Some places are offering pictures or places to take</p><p align="left">pictures so bring your camera! There will be vendors at</p><p align="left">Veterans Park selling hot dogs\, drinks and other fun</p><p align="left">treats! Look for maps at downtown stores!</p></font></font></div><div>&nbsp\;</div>
LOCATION:100 South to 200 North and 50 West to 50 East
UID:e.125.2575
SEQUENCE:3
DTSTAMP:20260423T150515Z
URL:https://members.tooelechamber.com/events/details/downtown-trick-or-treat-10-31-2009-2575
END:VEVENT

END:VCALENDAR
