BEGIN:VCALENDAR
VERSION:2.0
PRODID:-//ChamberMaster//Event Calendar 2.0//EN
METHOD:PUBLISH
X-PUBLISHED-TTL:P3D
REFRESH-INTERVAL:P3D
CALSCALE:GREGORIAN
BEGIN:VEVENT
DTSTART:20091108T040000Z
DTEND:20091107T230000Z
X-MICROSOFT-CDO-ALLDAYEVENT:FALSE
SUMMARY:Drive Away Hunger Charity Event
DESCRIPTION:'Drive Away Hunger' Charity Event to Benefit Utah Food BankReturns to Miller Motorsports Park on November 7 TOOELE VALLEY\, UTAH (October 20\, 2009)   Based on the success of last year's inaugural event\, Miller Motorsports Park is bringing back the "Drive Away Hunger" charity event benefiting the Utah Food Bank on Saturday\, November 7. "Drive Away Hunger" allows fans who always wanted to drive their street cars on a world-class racetrack a chance to do just that\, and help families in need at the same time. Fans who bring non-perishable food items will be allowed to drive three laps around MMP's 4.5-mile full course behind a pace car between the hours of 9 a.m. and 4 p.m. Passengers will be allowed\, but all passengers must wear a seat belt. Additional track time\, in three-lap increments\, will be available for a cash donation of $20. All proceeds will benefit the Utah Food Bank. "We are happy to bring the 'Drive Away Hunger' program back for a second year\," said John Larson\, Senior Vice President and General Manager of Miller Motorsports Park. "We had such a great response to\, and such good feedback from\, last year's event that it looks like we may have a tradition on our hands. With the holidays approaching\, this is a great chance for everyone   no matter if they drive a Volkswagen\, pickup truck\, SUV or Porsche   to simultaneously satisfy their need for speed and our need to feed!" "We are experiencing an unprecedented number of emergency food requests and\, sadly\, we don't see that trend reversing anytime soon\," said Jim Pugh\, executive director of Utah Food Bank. "We feel fortunate\, however\, that we have such a generous community that responds to our requests for donations. Drive Away Hunger is an incredible example of a win-win method to help those most vulnerable in our community." Drivers and passengers under the age of 18 will be required to have a Minor Waiver Form signed by their parent or guardian on file with the track. The Minor Waiver Forms will be available at the track\, or can be downloaded from the track's website at: http://www.millermotorsportspark.com/documents/uploads/eventdocuments/Minor_Waiver_Form.pdf.  The forms MUST be printed in color\; the track's insurance carrier will not accept black-and-white forms. For information regarding Miller Motorsports Park\, call 435-277-RACE (7223) or visit the track's website at www.MillerMotorsportsPark.com. For more information on the Utah Food Bank\, visit their website at www.UtahFoodBank.org.  John GardnerMedia ManagerMiller Motorsports Park2901 N. Sheep LaneTooele\, UT 84074Office 435.277.8101Cell 704.467.1424FAX: 435.277.8008Email: jgardner@millermotorsportspark.comWeb: www.MillerMotorsportsPark.com
X-ALT-DESC;FMTTYPE=text/html:<div><div style="margin: 0in 0in 0pt" align="center"><b><span style="font-size: 11pt">&lsquo\;Drive Away Hunger&rsquo\; Charity Event to Benefit Utah Food Bank</span></b></div><div style="margin: 0in 0in 0pt" align="center"><b><span style="font-size: 11pt">Returns to Miller Motorsports Park on November 7</span></b></div><div style="margin: 0in 0in 0pt" align="center"><b>&nbsp\;</b></div><div><span style="font-size: 11pt">TOOELE VALLEY\, UTAH (October 20\, 2009) &mdash\; Based on the success of last year&rsquo\;s inaugural event\, Miller Motorsports Park is bringing back the &ldquo\;Drive Away Hunger&rdquo\; charity event benefiting the Utah Food Bank on Saturday\, November 7.</span></div><div>&nbsp\;</div><div><span style="font-size: 11pt">&ldquo\;Drive Away Hunger&rdquo\; allows fans who always wanted to drive their street cars on a world-class racetrack a chance to do just that\, and help families in need at the same time.</span></div><div>&nbsp\;</div><div><span style="font-size: 11pt">Fans who bring non-perishable food items will be allowed to drive three laps around MMP&rsquo\;s 4.5-mile full course behind a pace car between the hours of 9 a.m. and 4 p.m. Passengers will be allowed\, but all passengers must wear a seat belt. Additional track time\, in three-lap increments\, will be available for a cash donation of $20. All proceeds will benefit the Utah Food Bank.</span></div><div>&nbsp\;</div><div><span style="font-size: 11pt">&ldquo\;We are happy to bring the &lsquo\;Drive Away Hunger&rsquo\; program back for a second year\,&rdquo\; said John Larson\, Senior Vice President and General Manager of Miller Motorsports Park. &ldquo\;We had such a great response to\, and such good feedback from\, last year&rsquo\;s event that it looks like we may have a tradition on our hands. With the holidays approaching\, this is a great chance for everyone &ndash\; no matter if they drive a Volkswagen\, pickup truck\, SUV or Porsche &ndash\; to simultaneously satisfy their need for speed and our need to feed!&rdquo\;</span></div><div>&nbsp\;</div><div><span style="font-size: 11pt">&ldquo\;We are experiencing an unprecedented number of emergency food requests and\, sadly\, we don&rsquo\;t see that trend reversing anytime soon\,&rdquo\; said Jim Pugh\, executive director of Utah Food Bank. &ldquo\;We feel fortunate\, however\, that we have such a generous community that responds to our requests for donations. Drive Away Hunger is an incredible example of a win-win method to help those most vulnerable in our community.&rdquo\;</span></div><div>&nbsp\;</div><div><span style="font-size: 11pt">Drivers and passengers under the age of 18 will be required to have a Minor Waiver Form signed by their parent or guardian on file with the track. The Minor Waiver Forms will be available at the track\, or can be downloaded from the track&rsquo\;s website at:</span></div><div><span style="font-size: 11pt">&nbsp\;<a href="http://www.millermotorsportspark.com/documents/uploads/eventdocuments/Minor_Waiver_Form.pdf">http://www.millermotorsportspark.com/documents/uploads/eventdocuments/Minor_Waiver_Form.pdf</a>. </span></div><div>&nbsp\;</div><div><span style="font-size: 11pt">The forms MUST be printed in color\; the track&rsquo\;s insurance carrier will not accept black-and-white forms.</span></div><div>&nbsp\;</div><div><span style="font-size: 11pt">For information regarding Miller Motorsports Park\, call 435-277-RACE (7223) or visit the track&rsquo\;s website at <a title="blocked::http://www.millermotorsportspark.com/" href="http://www.millermotorsportspark.com/"><font color="#800080">www.MillerMotorsportsPark.com</font></a>. For more information on the Utah Food Bank\, visit their website at <a href="http://www.utahfoodbank.org/">www.UtahFoodBank.org</a>.</span></div><div>&nbsp\;</div><div>&nbsp\;</div><div><span style="font-size: 10pt">John Gardner</span></div><div><div><span style="font-size: 10pt">Media Manager</span></div></div><div><div><span style="font-size: 10pt">Miller Motorsports Park</span></div></div><div><div><span style="font-size: 10pt">2901 N. Sheep Lane</span></div></div><div><div><span style="font-size: 10pt">Tooele\, UT 84074</span></div></div><div><div><span style="font-size: 10pt">Office 435.277.8101</span></div></div><div><div><span style="font-size: 10pt">Cell 704.467.1424</span></div></div><div><div><span style="font-size: 10pt">FAX: 435.277.8008</span></div></div><div><div><span style="font-size: 10pt">Email: <a href="mailto:jgardner@millermotorsportspark.com">jgardner@millermotorsportspark.com</a></span></div></div><div><div><span style="font-size: 10pt">Web: <a href="http://www.millermotorsportspark.com/"><font color="#800080">www.MillerMotorsportsPark.com</font></a></span></div></div></div>
LOCATION:Miller Motorsports Park2901 No. Sheep Lane\, Tooele
UID:e.125.2584
SEQUENCE:3
DTSTAMP:20260423T134330Z
URL:https://members.tooelechamber.com/events/details/drive-away-hunger-charity-event-11-07-2009-2584
END:VEVENT

END:VCALENDAR
