BEGIN:VCALENDAR
VERSION:2.0
PRODID:-//ChamberMaster//Event Calendar 2.0//EN
METHOD:PUBLISH
X-PUBLISHED-TTL:P3D
REFRESH-INTERVAL:P3D
CALSCALE:GREGORIAN
BEGIN:VEVENT
DTSTART;VALUE=DATE:20110526
DTEND;VALUE=DATE:20110527
TRANSP:TRANSPARENT
X-MICROSOFT-CDO-ALLDAYEVENT:TRUE
SUMMARY:Dugway Graduation
DESCRIPTION:Dugway High School Graduation\n\nThursday\, May 26\, 2011
X-ALT-DESC;FMTTYPE=text/html:Dugway High School Graduation<br />\nThursday\, May 26\, 2011<br />\n
LOCATION:
UID:e.125.3515
SEQUENCE:3
DTSTAMP:20260422T091150Z
URL:https://members.tooelechamber.com/events/details/dugway-graduation-05-26-2011-3515
END:VEVENT

END:VCALENDAR
