BEGIN:VCALENDAR
VERSION:2.0
PRODID:-//ChamberMaster//Event Calendar 2.0//EN
METHOD:PUBLISH
X-PUBLISHED-TTL:P3D
REFRESH-INTERVAL:P3D
CALSCALE:GREGORIAN
BEGIN:VEVENT
DTSTART:20070619T150000Z
DTEND:20070620T000000Z
X-MICROSOFT-CDO-ALLDAYEVENT:FALSE
SUMMARY:Dugway Tour
DESCRIPTION:Chamber members are invited to tour Dugway Proving Grounds.\nLearn all about the largest employer in Tooele County.\nThere are a limited number of spaces available.   Reserve your spot today!\nYou may purchase your lunch on the base or bring your own.  Chamber will provide coolers.
X-ALT-DESC;FMTTYPE=text/html:<p align="center"><font size="5">Chamber members are invited to tour Dugway Proving Grounds.<br />Learn all about the largest employer in Tooele County.<br />There are a limited number of spaces available.&nbsp\;&nbsp\; Reserve your spot today!<br /></font><font size="3">You may purchase your lunch on the base or bring your own.&nbsp\; Chamber will provide coolers.<br /></font></p>
LOCATION:We will meet at the Chamber office (201 North Main) at 9:00am then carpool to Dugway Proving Ground.
UID:e.125.108
SEQUENCE:3
DTSTAMP:20260425T114003Z
URL:https://members.tooelechamber.com/events/details/dugway-tour-06-19-2007-108
END:VEVENT

END:VCALENDAR
