BEGIN:VCALENDAR
VERSION:2.0
PRODID:-//ChamberMaster//Event Calendar 2.0//EN
METHOD:PUBLISH
X-PUBLISHED-TTL:P3D
REFRESH-INTERVAL:P3D
CALSCALE:GREGORIAN
BEGIN:VEVENT
DTSTART:20070428T140000Z
DTEND:20070428T140000Z
X-MICROSOFT-CDO-ALLDAYEVENT:FALSE
SUMMARY:DVSAVA Run Against Violence
DESCRIPTION:DVSAVA Run Against Violence  5K Fun Run/Walk\n\nSaturday April 28\, 2007-  Registration and check-in at 8:00 am\, Elton Park\, 400 North and Broadway\, Tooele\n\nRegistration:  $15 at the event\, online at dvsava.org or by mail.  All registrants will receive a fun run t-shirt.\n\nThe run/walk begins at the top of Smelter Road at 9:00 am and ends at Elton Park\, a light breakfast will be served\n\nA drawing for prizes will be held at the end of the race for all runners and walkers.  Prizes include:  Televison\, Couples Dinner on the lake\, Rounds of golf\, spa treatments\, and many more!\n\nAll proceeds will benefit the DVSAVA crisis line and vctims of domestic violence and sexual assault.
X-ALT-DESC;FMTTYPE=text/html:<font size="4">DVSAVA Run Against Violence&nbsp\; 5K Fun Run/Walk</font><br /><br />Saturday April 28\, 2007-&nbsp\; Registration and check-in at 8:00 am\, Elton Park\, 400 North and Broadway\, Tooele<br /><br />Registration:&nbsp\; $15 at the event\, online at dvsava.org or by mail.&nbsp\; All registrants will receive a fun run t-shirt.<br /><br />The run/walk begins at the top of Smelter Road at 9:00 am and ends at Elton Park\, a light breakfast will be served<br /><br />A drawing for prizes will be held at the end of the race for all runners and walkers.&nbsp\; Prizes include:&nbsp\; Televison\, Couples Dinner on the lake\, Rounds of golf\, spa treatments\, and many more!<br /><br />All proceeds will benefit the DVSAVA crisis line and vctims of domestic violence and sexual assault.
LOCATION:Register at Elton Park\, 400 North and Broadway 8:00 am
UID:e.125.79
SEQUENCE:3
DTSTAMP:20260425T141927Z
URL:https://members.tooelechamber.com/events/details/dvsava-run-against-violence-04-28-2007-79
END:VEVENT

END:VCALENDAR
