BEGIN:VCALENDAR
VERSION:2.0
PRODID:-//ChamberMaster//Event Calendar 2.0//EN
METHOD:PUBLISH
X-PUBLISHED-TTL:P3D
REFRESH-INTERVAL:P3D
CALSCALE:GREGORIAN
BEGIN:VEVENT
DTSTART;VALUE=DATE:20081021
DTEND;VALUE=DATE:20081101
TRANSP:TRANSPARENT
X-MICROSOFT-CDO-ALLDAYEVENT:TRUE
SUMMARY:Early Voting
DESCRIPTION:Dates October 21st through 31st. Please go to www.co.tooele.ut.us for locations and hours.
X-ALT-DESC;FMTTYPE=text/html:<p align="center"><font size="4">Dates October 21st through 31st. Please go to </font><a href="http://www.co.tooele.ut.us/clerk.htm"><font size="4">www.co.tooele.ut.us</font></a><font size="2"><font size="4"> for locations and hours.</font> </font></p>
LOCATION:
UID:e.125.477
SEQUENCE:3
DTSTAMP:20260424T104339Z
URL:https://members.tooelechamber.com/events/details/early-voting-10-21-2008-477
END:VEVENT

END:VCALENDAR
