BEGIN:VCALENDAR
VERSION:2.0
PRODID:-//ChamberMaster//Event Calendar 2.0//EN
METHOD:PUBLISH
X-PUBLISHED-TTL:P3D
REFRESH-INTERVAL:P3D
CALSCALE:GREGORIAN
BEGIN:VEVENT
DTSTART:20100422T230000Z
DTEND:20100423T010000Z
X-MICROSOFT-CDO-ALLDAYEVENT:FALSE
SUMMARY:Earth Day
DESCRIPTION:Earth Day eventGreen Box Recylcing is celebrating Earth Day on April 22. We are inviting all people and businesses that have a green focus to participate. The event will cover recycling techniques and tips\, adpotion of troubled illegal dumping areas\, arranging recycling drop off areas for Lake Point\, Grantsville\, Stockton and Rush Valley. All information gathered that day will be used in the Tooele County Recycling Guide's first edition. While supplies last\, everyone who shows up will receive a seedling. For more information call Green Box Recycling at 882-2222 or visit them online at greenboxrecylcing.com. Reduce\, reuse\, recycle. If weather is bad\, the event will be held at Liddard Budget and Clearance Outlet\, 48 South 50 West\, Tooele.
X-ALT-DESC;FMTTYPE=text/html:<div><p class="MsoNormal" style="text-align: center\; margin: 0in 0in 0pt"><u><strong><span style="font-size: medium"><span class="apple-style-span"><span style="font-family: &quot\;Arial&quot\;\,&quot\;sans-serif&quot\;\; color: black">Earth Day event</span></span></span></strong></u><span style="font-family: &quot\;Verdana&quot\;\,&quot\;sans-serif&quot\;\; color: black\; font-size: 10pt"><o:p></o:p></span></p><p class="MsoNormal" style="margin: 0in 0in 0pt"><span style="font-size: small"><span class="apple-style-span"><span style="font-family: &quot\;Arial&quot\;\,&quot\;sans-serif&quot\;\; color: black">Green Box Recylcing is celebrating Earth Day on April 22. We are inviting all people and businesses that have a green focus to participate. The event will cover recycling techniques and tips\, adpotion of troubled illegal dumping areas\, arranging recycling drop off areas for Lake Point\, Grantsville\, Stockton and Rush Valley. All information gathered that day will be used in the Tooele County Recycling Guide&rsquo\;s first edition. While supplies last\, everyone who shows up will receive a seedling. For more information call Green Box Recycling at 882-2222 or visit them online at greenboxrecylcing.com. Reduce\, reuse\, recycle. If weather is bad\, the event will be held at Liddard Budget and Clearance Outlet\, 48 South 50 West\, Tooele.</span></span></span></p></div>
LOCATION:
UID:e.125.3133
SEQUENCE:3
DTSTAMP:20260423T062129Z
URL:https://members.tooelechamber.com/events/details/earth-day-04-22-2010-3133
END:VEVENT

END:VCALENDAR
