BEGIN:VCALENDAR
VERSION:2.0
PRODID:-//ChamberMaster//Event Calendar 2.0//EN
METHOD:PUBLISH
X-PUBLISHED-TTL:P3D
REFRESH-INTERVAL:P3D
CALSCALE:GREGORIAN
BEGIN:VEVENT
DTSTART:20070228T070000Z
DTEND:20070228T070000Z
X-MICROSOFT-CDO-ALLDAYEVENT:FALSE
SUMMARY:Earthquake Preparedness Exercise
DESCRIPTION:The Local Emergency Planning Committee is conducting a recovery tabletop exercise to assist in planning for a large magnitude quake. Earthquakes present the biggest risk in this area for widespread disaster and damage. The focus will be on utilities\, infrastructure and communications. Media and the public are invited to attend the meeting to witness the proceedings and also ask questions to the expert panel. It will be on Wednesday\, Feb. 28 at 1:30 p.m.\, Tooele County Courthouse Auditorium\, 47 S. Main St.\, Tooele. Tooele County has the reputation of being one of the best prepared counties in the state and possibly in the nation. For more information contact the Local Emergency Planning Committee chairman\, Harry Shinton at 435-843-4725.
X-ALT-DESC;FMTTYPE=text/html:  The Local Emergency Planning Committee is conducting a recovery tabletop exercise to assist in planning for a large magnitude quake. Earthquakes present the biggest risk in this area for widespread disaster and damage. The focus will be on utilities\, infrastructure and communications. Media and the public are invited to attend the meeting to witness the proceedings and also ask questions to the expert panel. It will be on Wednesday\, Feb. 28 at 1:30 p.m.\, Tooele County Courthouse Auditorium\, 47 S. Main St.\, Tooele. Tooele County has the reputation of being one of the best prepared counties in the state and possibly in the nation. For more information contact the Local Emergency Planning Committee chairman\, Harry Shinton at 435-843-4725. 
LOCATION:Tooele County Courthouse Auditorium
UID:e.125.53
SEQUENCE:3
DTSTAMP:20260425T165936Z
URL:https://members.tooelechamber.com/events/details/earthquake-preparedness-exercise-02-28-2007-53
END:VEVENT

END:VCALENDAR
