BEGIN:VCALENDAR
VERSION:2.0
PRODID:-//ChamberMaster//Event Calendar 2.0//EN
METHOD:PUBLISH
X-PUBLISHED-TTL:P3D
REFRESH-INTERVAL:P3D
CALSCALE:GREGORIAN
BEGIN:VEVENT
DTSTART;VALUE=DATE:20070407
DTEND;VALUE=DATE:20070408
TRANSP:TRANSPARENT
X-MICROSOFT-CDO-ALLDAYEVENT:TRUE
SUMMARY:Easter Egg Hunt
DESCRIPTION:All children in Tooele County ages 11 and under are invited to participate in our annual Easter Egg Hunt\, held on Saturday\, April 7th at 10:00am at the Tooele County Deseret Peak Complex. The hunt is sponsored by Mountain West Medical Center and WalMart Distribution.  This is a new place to hold the event\, but we will be able to accomodate more children! Pick up a free hunting license at participating stores including Quality Automotive Group\, Maceys\, Big O Tires\, Tooele Federal Credit Union\, Les Schwab Tires\, Kravers\, Copy Cottage\, Soelberg's\, Tooele Floral\, Grantsville City\, A&W and the Transcript Bulletin.
X-ALT-DESC;FMTTYPE=text/html:All children in Tooele County ages 11 and under are invited to participate in our annual Easter Egg Hunt\, held on Saturday\, April 7th at 10:00am at the Tooele County Deseret Peak Complex. The hunt is sponsored by Mountain West Medical Center and WalMart Distribution.&nbsp\; This is a new place to hold the event\, but we will be able to accomodate more children! Pick up a free hunting license at participating stores including Quality Automotive Group\, Maceys\, Big O Tires\, Tooele Federal Credit Union\, Les Schwab Tires\, Kravers\, Copy Cottage\, Soelberg's\, Tooele Floral\, Grantsville City\, A&amp\;W and the Transcript Bulletin.
LOCATION:Deseret Peak Complex
UID:e.125.54
SEQUENCE:3
DTSTAMP:20260425T141653Z
URL:https://members.tooelechamber.com/events/details/easter-egg-hunt-04-07-2007-54
END:VEVENT

END:VCALENDAR
