BEGIN:VCALENDAR
VERSION:2.0
PRODID:-//ChamberMaster//Event Calendar 2.0//EN
METHOD:PUBLISH
X-PUBLISHED-TTL:P3D
REFRESH-INTERVAL:P3D
CALSCALE:GREGORIAN
BEGIN:VEVENT
DTSTART:20090803T213000Z
DTEND:20090803T230000Z
X-MICROSOFT-CDO-ALLDAYEVENT:FALSE
SUMMARY:Economic Development Procurement Technical Assistance Seminar
DESCRIPTION:August 3rd\, 2009\n3:30 pm\nTooele County Economic Development\nProcurement Technical Assistant Seminar\nTooele County Building \n1st Floor\n47 South Main\, Tooele435-843-4792
X-ALT-DESC;FMTTYPE=text/html:<p style="text-align: center"><span style="font-size: medium">August 3rd\, 2009<br />3:30 pm<br />Tooele County Economic Development<br />Procurement Technical Assistant Seminar<br />Tooele County Building <br />1st Floor<br />47 South Main\, Tooele</span></p><p style="text-align: center"><span style="font-size: medium">435-843-4792</span></p>
LOCATION:
UID:e.125.2542
SEQUENCE:3
DTSTAMP:20260423T181534Z
URL:https://members.tooelechamber.com/events/details/economic-development-procurement-technical-assistance-seminar-08-03-2009-2542
END:VEVENT

END:VCALENDAR
