BEGIN:VCALENDAR
VERSION:2.0
PRODID:-//ChamberMaster//Event Calendar 2.0//EN
METHOD:PUBLISH
X-PUBLISHED-TTL:P3D
REFRESH-INTERVAL:P3D
CALSCALE:GREGORIAN
BEGIN:VEVENT
DTSTART;VALUE=DATE:20131026
DTEND;VALUE=DATE:20131027
TRANSP:TRANSPARENT
X-MICROSOFT-CDO-ALLDAYEVENT:TRUE
SUMMARY:Edith Cramer-Birthday
DESCRIPTION:
X-ALT-DESC;FMTTYPE=text/html:
LOCATION:
UID:e.125.5013
SEQUENCE:3
DTSTAMP:20260420T075316Z
URL:https://members.tooelechamber.com/events/details/edith-cramer-birthday-10-26-2013-5013
END:VEVENT

END:VCALENDAR
