BEGIN:VCALENDAR
VERSION:2.0
PRODID:-//ChamberMaster//Event Calendar 2.0//EN
METHOD:PUBLISH
X-PUBLISHED-TTL:P3D
REFRESH-INTERVAL:P3D
CALSCALE:GREGORIAN
BEGIN:VEVENT
DTSTART:20070309T190000Z
DTEND:20070310T030000Z
X-MICROSOFT-CDO-ALLDAYEVENT:FALSE
SUMMARY:Education and Career Fair
DESCRIPTION:Meet with advisors from various departments including but not limited to Financial Aid\, Women's Resources\, Graduate Studies.  \n\nTooele businesses will be on site to take resumes and discuss job opportunities.
X-ALT-DESC;FMTTYPE=text/html:Meet with advisors from various departments including but not limited to Financial Aid\, Women's Resources\, Graduate Studies.  \n\nTooele businesses will be on site to take resumes and discuss job opportunities.
LOCATION:Utah State University Tooele Campus 1021 West Vine Street Tooele\, UT 84074 435-882-6611
UID:e.125.49
SEQUENCE:3
DTSTAMP:20260425T155318Z
URL:https://members.tooelechamber.com/events/details/education-and-career-fair-03-09-2007-49
END:VEVENT

END:VCALENDAR
