BEGIN:VCALENDAR
VERSION:2.0
PRODID:-//ChamberMaster//Event Calendar 2.0//EN
METHOD:PUBLISH
X-PUBLISHED-TTL:P3D
REFRESH-INTERVAL:P3D
CALSCALE:GREGORIAN
BEGIN:VEVENT
DTSTART:20110513T160000Z
DTEND:20110513T210000Z
X-MICROSOFT-CDO-ALLDAYEVENT:FALSE
SUMMARY:Education Fair
DESCRIPTION:USU Tooele Regional Campus & Tooele Applied Technology College \n\n	Education Fair \n\n	Friday\, May 13\, 2011 from 10am-3pm\n\n	Community Learning Center\n\n	211 South Tooele Blvd\, Tooele\n\n	Come discover all of the educational opportunities available to you right here in Tooele County!\n\n	- See what financial aid options are available to you\n\n	- Meet with a USU and TATC program advisors\n\n	- Talk with Representatives from Veterans Administration and Division of Work Force Services\n\n	- Learn about the new Child Care Center\n\n	If you have any questions or need additional information contact: Suzanne Anderson @ suzanne.anderson@usu.edu\, Joyce Allen @ joyce.allen@usu.edu or Ellen Lange-Christensen elange@tatc.edu
X-ALT-DESC;FMTTYPE=text/html:<p style="text-align: center">\n	<span style="font-size: 20px"><u><strong><span style="font-family: times new roman">USU Tooele Regional Campus &amp\; Tooele Applied Technology College </span></strong></u></span><br />\n	<span style="font-size: 20px"><span style="font-family: times new roman"><u><strong>Education Fair </strong></u><br />\n	Friday\, May 13\, 2011 from 10am-3pm<br />\n	Community Learning Center<br />\n	211 South Tooele Blvd\, Tooele<br />\n	Come discover all of the educational opportunities available to you right here in Tooele County!<br />\n	- See what financial aid options are available to you<br />\n	- Meet with a USU and TATC program advisors<br />\n	- Talk with Representatives from Veterans Administration and Division of Work Force Services<br />\n	- Learn about the new Child Care Center<br />\n	If you have any questions or need additional information contact: Suzanne Anderson @ <a href="mailto:suzanne.anderson@usu.edu">suzanne.anderson@usu.edu</a>\, Joyce Allen @ <a href="mailto:joyce.allen@usu.edu">joyce.allen@usu.edu</a> or Ellen Lange-Christensen <a href="mailto:elange@tatc.edu">elange@tatc.edu</a></span></span></p>\n
LOCATION:
UID:e.125.3690
SEQUENCE:3
DTSTAMP:20260422T090938Z
URL:https://members.tooelechamber.com/events/details/education-fair-05-13-2011-3690
END:VEVENT

END:VCALENDAR
