BEGIN:VCALENDAR
VERSION:2.0
PRODID:-//ChamberMaster//Event Calendar 2.0//EN
METHOD:PUBLISH
X-PUBLISHED-TTL:P3D
REFRESH-INTERVAL:P3D
CALSCALE:GREGORIAN
BEGIN:VEVENT
DTSTART:20110317T020000Z
DTEND:20110317T030000Z
X-MICROSOFT-CDO-ALLDAYEVENT:FALSE
SUMMARY:Educational Breakfast Meeting
DESCRIPTION:Educational Breakfast Meeting\n\n"Making the Most of Your Chamber Membership"\n\nWednesday\, March 16\, 2011 from 8-9am\n\nHoliday Inn Express\n\n1531 North Main Street\, Tooele\n\nNO CHARGE for this event but you still must RSVP\n\nPlease RSVP Monday\, March 14th by 5pm\n\nChamber Office 435-882-0690
X-ALT-DESC;FMTTYPE=text/html:Educational Breakfast Meeting<br />\n&quot\;Making the Most of Your Chamber Membership&quot\;<br />\nWednesday\, March 16\, 2011 from 8-9am<br />\nHoliday Inn Express<br />\n1531 North Main Street\, Tooele<br />\nNO CHARGE for this event but you still must RSVP<br />\nPlease RSVP Monday\, March 14th by 5pm<br />\nChamber Office 435-882-0690
LOCATION:
UID:e.125.3639
SEQUENCE:3
DTSTAMP:20260422T135743Z
URL:https://members.tooelechamber.com/events/details/educational-breakfast-meeting-03-16-2011-3639
END:VEVENT

END:VCALENDAR
