BEGIN:VCALENDAR
VERSION:2.0
PRODID:-//ChamberMaster//Event Calendar 2.0//EN
METHOD:PUBLISH
X-PUBLISHED-TTL:P3D
REFRESH-INTERVAL:P3D
CALSCALE:GREGORIAN
BEGIN:VEVENT
DTSTART:20110518T140000Z
DTEND:20110518T150000Z
X-MICROSOFT-CDO-ALLDAYEVENT:FALSE
SUMMARY:Educational Breakfast Meeting
DESCRIPTION:The Tooele County Chamber of Commerce and the\n\n	Tooele County Health Department\n\n	will be presenting information concerning the\n\n	Tooele County AED (Automatic External Defibrillator) Program\n\n	Wednesday\, May 18th   8:00am to 9:00 am\n\n	Tooele County Health Department Auditorium\n\n	151 North Main\, Tooele\n\n	Free Hot Breakfast catered by Denny's\n\n	Please RSVP at Chamber office  435-882-0690
X-ALT-DESC;FMTTYPE=text/html:<p style="text-align: center">\n	<span style="font-size: 20px"><span><strong><font color="#000000"><font face="Cambria">The Tooele County Chamber of Commerce and the</font><br />\n	<span style="font-family: 'cambria'\, 'serif'\; mso-bidi-font-family: arial">Tooele County Health Department</span><br />\n	<span style="font-family: 'cambria'\, 'serif'\; mso-bidi-font-family: arial">will be presenting information concerning the</span><br />\n	<span style="font-family: 'cambria'\, 'serif'\; mso-bidi-font-family: arial">Tooele County AED (</span>Automatic External Defibrillator) Program</font></strong></span><br />\n	<span><strong><font color="#000000"><span style="font-family: 'cambria'\, 'serif'\; mso-bidi-font-family: arial">Wednesday\, May 18th&nbsp\;&nbsp\; 8:00am to 9:00 am</span><br />\n	<span style="font-family: 'cambria'\, 'serif'\; mso-bidi-font-family: arial">Tooele County Health Department Auditorium</span><br />\n	<span style="font-family: 'cambria'\, 'serif'\; mso-bidi-font-family: arial">151 North Main\, Tooele</span><br />\n	<span style="font-family: 'cambria'\, 'serif'\; background: yellow\; mso-bidi-font-family: arial">Free Hot Breakfast catered by Denny&#39\;s</span><br />\n	<span style="font-family: 'cambria'\, 'serif'\; background: yellow\; mso-bidi-font-family: arial">Please RSVP at Chamber office&nbsp\; 435-882-0690</span></font></strong></span></span><br style="mso-special-character: line-break" />\n	<br style="mso-special-character: line-break" />\n	<span><span _fck_bookmark="1" style="display: none">&nbsp\;</span></span></p>\n
LOCATION:
UID:e.125.3698
SEQUENCE:3
DTSTAMP:20260422T104310Z
URL:https://members.tooelechamber.com/events/details/educational-breakfast-meeting-05-18-2011-3698
END:VEVENT

END:VCALENDAR
