BEGIN:VCALENDAR
VERSION:2.0
PRODID:-//ChamberMaster//Event Calendar 2.0//EN
METHOD:PUBLISH
X-PUBLISHED-TTL:P3D
REFRESH-INTERVAL:P3D
CALSCALE:GREGORIAN
BEGIN:VEVENT
DTSTART:20100628T204500Z
DTEND:20100628T214500Z
X-MICROSOFT-CDO-ALLDAYEVENT:FALSE
SUMMARY:Effective Communication & Interaction With People With Disabilities
DESCRIPTION:Join us for free training on effective communication and interaction with people with disabilities Monday\, June 28\, 2010 @ 2:45-3:45pmThis training is tailored to agency personnel and includes:- Myths and realities - Suggestions to improve positive interactions and decrease common missteps - Appropriate and effective communication with people who have visual\, hearing\, cognitive\, mobility\, and hidden disabilities- Appropriate interaction with people who use assistive devices for mobility\, vision and hearing - Local state and national resource/supports (handouts will be provided)- This interactive training will include time for questionsExperienced trainers are from The Center for Persons with Disabilities at Utah State University\, Human Capabilites\, and the Division of Services to the Deaf and Hard of Hearing.For more information\, Please call Marilyn Hammond - marilyn.hammond@usu.edu or (435)797-3811. Sachin Pavithran - sachin.pavithran@usu.edu or (435)797-6572 or (800)524-5152Location: USU - Tooele Regional Campus 1021 West Vine Street Room #156
X-ALT-DESC;FMTTYPE=text/html:<div style="text-align: center"><u><strong><span style="font-size: medium">Join us for free training on effective communication and interaction with people with disabilities </span></strong></u></div><div style="text-align: center"><span style="font-size: medium">Monday\, June 28\, 2010 @ 2:45-3:45pm</span></div><div><span style="font-size: medium">This training is tailored to agency personnel and includes:</span></div><div><span style="font-size: medium">- Myths and realities </span></div><div><span style="font-size: medium">- Suggestions to improve positive interactions and decrease common missteps </span></div><div><span style="font-size: medium">- Appropriate and effective communication with people who have visual\, hearing\, cognitive\, mobility\, and hidden disabilities</span></div><div><span style="font-size: medium">- Appropriate interaction with people who use assistive devices for mobility\, vision and hearing </span></div><div><span style="font-size: medium">- Local state and national resource/supports (handouts will be provided)</span></div><div><span style="font-size: medium">- This interactive training will include time for questions</span></div><div><span style="font-size: medium">Experienced trainers are from The Center for Persons with Disabilities at Utah State University\, Human Capabilites\, and the Division of Services to the Deaf and Hard of Hearing.</span></div><div><span style="font-size: medium">For more information\, Please call Marilyn Hammond - </span><a href="mailto:marilyn.hammond@usu.edu"><span style="font-size: medium">marilyn.hammond@usu.edu</span></a><span style="font-size: medium"> or (435)797-3811. Sachin Pavithran - </span><a href="mailto:sachin.pavithran@usu.edu"><span style="font-size: medium">sachin.pavithran@usu.edu</span></a><span style="font-size: medium"> or (435)797-6572 or (800)524-5152</span></div><div><span style="font-size: medium">Location: USU - Tooele Regional Campus </span></div><div><span style="font-size: medium">1021 West Vine Street Room #156</span></div><div>&nbsp\;</div>
LOCATION:
UID:e.125.3199
SEQUENCE:3
DTSTAMP:20260423T031135Z
URL:https://members.tooelechamber.com/events/details/effective-communication-interaction-with-people-with-disabilities-06-28-2010-3199
END:VEVENT

END:VCALENDAR
