BEGIN:VCALENDAR
VERSION:2.0
PRODID:-//ChamberMaster//Event Calendar 2.0//EN
METHOD:PUBLISH
X-PUBLISHED-TTL:P3D
REFRESH-INTERVAL:P3D
CALSCALE:GREGORIAN
BEGIN:VEVENT
DTSTART:20110119T190000Z
DTEND:20110119T200000Z
X-MICROSOFT-CDO-ALLDAYEVENT:FALSE
SUMMARY:Electronic Scrapbooking
DESCRIPTION:Mini-Lesson\n\n	Lunch N Learn Series\n\n	Sponsored by: Tooele Applied Technology College\n\n	Electonic Scrapbooking with Joe Mena\n\n	Learn to easily create personalized photo books\, scrap books\, calendars\, and cards with electronic sources like mixbooks.\n\n	Free to public\, includes pizza lunch!\n\n	Limited seating\, RSVP's accepted for accurate lunch count\n\n	66 West Vine Street\, Tooele
X-ALT-DESC;FMTTYPE=text/html:<p style="text-align: center">\n	<span style="font-size: 18px">Mini-Lesson<br />\n	Lunch N Learn Series<br />\n	Sponsored by: Tooele Applied Technology College<br />\n	Electonic Scrapbooking with Joe Mena<br />\n	Learn to easily create personalized photo books\, scrap books\, calendars\, and cards with electronic sources like mixbooks.<br />\n	Free to public\, includes pizza lunch!<br />\n	Limited seating\, RSVP&#39\;s accepted for accurate lunch count<br />\n	66 West Vine Street\, Tooele </span></p>\n
LOCATION:
UID:e.125.3583
SEQUENCE:3
DTSTAMP:20260422T153943Z
URL:https://members.tooelechamber.com/events/details/electronic-scrapbooking-01-19-2011-3583
END:VEVENT

END:VCALENDAR
