BEGIN:VCALENDAR
VERSION:2.0
PRODID:-//ChamberMaster//Event Calendar 2.0//EN
METHOD:PUBLISH
X-PUBLISHED-TTL:P3D
REFRESH-INTERVAL:P3D
CALSCALE:GREGORIAN
BEGIN:VEVENT
DTSTART:20100918T160000Z
DTEND:20100918T220000Z
X-MICROSOFT-CDO-ALLDAYEVENT:FALSE
SUMMARY:Elks Veteran and Appreciation Day & Car Show
DESCRIPTION:Elk Veterans Appreciation Day & Car Show Saturday\, September 18\, 2010 from 10-4pm Veterans Memorial Park (Corner of Vine and Main)
X-ALT-DESC;FMTTYPE=text/html:<div style="text-align: center"><span style="font-size: large">Elk Veterans Appreciation Day &amp\;&nbsp\;Car Show </span></div><div style="text-align: center"><span style="font-size: large">Saturday\, September 18\, 2010 from 10-4pm </span></div><div style="text-align: center"><span style="font-size: large">Veterans Memorial Park (Corner of Vine and Main)</span></div>
LOCATION:
UID:e.125.3219
SEQUENCE:3
DTSTAMP:20260422T220151Z
URL:https://members.tooelechamber.com/events/details/elks-veteran-and-appreciation-day-car-show-09-18-2010-3219
END:VEVENT

END:VCALENDAR
