BEGIN:VCALENDAR
VERSION:2.0
PRODID:-//ChamberMaster//Event Calendar 2.0//EN
METHOD:PUBLISH
X-PUBLISHED-TTL:P3D
REFRESH-INTERVAL:P3D
CALSCALE:GREGORIAN
BEGIN:VEVENT
DTSTART:20131018T190000Z
DTEND:20131018T230000Z
X-MICROSOFT-CDO-ALLDAYEVENT:FALSE
SUMMARY:Encore Careers 2013: Discovering What's Next
DESCRIPTION:Considering a career change or looking for employment? Come discover how to get ahead of your competition! Highlights - Managing Career Transitions\, Resume Writing that Gets Results\, Why Should I Hire You?\, networking with employers\, etc. Don't miss this opportunity to increase your marketability and effectiveness!
X-ALT-DESC;FMTTYPE=text/html:<span class="description">Considering a career change or looking for employment? Come discover how to get ahead of your competition! Highlights - Managing Career Transitions\, Resume Writing that Gets Results\, Why Should I Hire You?\, networking with employers\, etc. Don&#39\;t miss this opportunity to increase your marketability and effectiveness!</span>
LOCATION:Salt Lake Community College\, Larry H. Miller Campus 9750 South 300 West\, Sandy
UID:e.125.5055
SEQUENCE:3
DTSTAMP:20260420T075854Z
URL:https://members.tooelechamber.com/events/details/encore-careers-2013-discovering-what-s-next-10-18-2013-5055
END:VEVENT

END:VCALENDAR
