BEGIN:VCALENDAR
VERSION:2.0
PRODID:-//ChamberMaster//Event Calendar 2.0//EN
METHOD:PUBLISH
X-PUBLISHED-TTL:P3D
REFRESH-INTERVAL:P3D
CALSCALE:GREGORIAN
BEGIN:VEVENT
DTSTART:20140620T060000Z
DTEND:20140620T080000Z
X-MICROSOFT-CDO-ALLDAYEVENT:FALSE
SUMMARY:EPA sponsored US Magnesium Community Advisory Group Meeting
DESCRIPTION:This meeting is intended to be smaller and more focused than the public meeting\, with participants from the community who are committed to meeting regularly over the long-term to discuss the details of the site investigation and cleanup.
X-ALT-DESC;FMTTYPE=text/html:This meeting is intended to be smaller and more focused than the public meeting\, with participants from the community who are committed to meeting regularly over the long-term to discuss the details of the site investigation and cleanup.\n
LOCATION:Conference Room
UID:e.125.5521
SEQUENCE:3
DTSTAMP:20260419T162747Z
URL:https://members.tooelechamber.com/events/details/epa-sponsored-us-magnesium-community-advisory-group-meeting-06-20-2014-5521
END:VEVENT

END:VCALENDAR
