BEGIN:VCALENDAR
VERSION:2.0
PRODID:-//ChamberMaster//Event Calendar 2.0//EN
METHOD:PUBLISH
X-PUBLISHED-TTL:P3D
REFRESH-INTERVAL:P3D
CALSCALE:GREGORIAN
BEGIN:VEVENT
DTSTART:20140619T060000Z
DTEND:20140619T080000Z
X-MICROSOFT-CDO-ALLDAYEVENT:FALSE
SUMMARY:EPA sponsored US Magnesium Open House
DESCRIPTION:This meeting will be an open house format intended to provide general information and answers to anyone in the general public curious about our work at US Magnesium.  Jennifer Chergo (EPA)\, contact
X-ALT-DESC;FMTTYPE=text/html:This meeting will be an open house format intended to provide general information and answers to anyone in the general public curious about our work at US Magnesium.  Jennifer Chergo (EPA)\, contact
LOCATION:Library Conference Room
UID:e.125.5520
SEQUENCE:3
DTSTAMP:20260419T162505Z
URL:https://members.tooelechamber.com/events/details/epa-sponsored-us-magnesium-open-house-06-19-2014-5520
END:VEVENT

END:VCALENDAR
