BEGIN:VCALENDAR
VERSION:2.0
PRODID:-//ChamberMaster//Event Calendar 2.0//EN
METHOD:PUBLISH
X-PUBLISHED-TTL:P3D
REFRESH-INTERVAL:P3D
CALSCALE:GREGORIAN
BEGIN:VEVENT
DTSTART;VALUE=DATE:20110715
DTEND;VALUE=DATE:20110717
TRANSP:TRANSPARENT
X-MICROSOFT-CDO-ALLDAYEVENT:TRUE
SUMMARY:Erda Days
DESCRIPTION:Erda Days\n\n	July 15th - 16th\, 2011\n\n	Contact: 435-882-4479
X-ALT-DESC;FMTTYPE=text/html:<p style="text-align: center">\n	<span style="font-size: 20px">Erda Days<br />\n	July 15th - 16th\, 2011<br />\n	Contact: 435-882-4479</span></p>\n
LOCATION:
UID:e.125.3550
SEQUENCE:3
DTSTAMP:20260422T073624Z
URL:https://members.tooelechamber.com/events/details/erda-days-07-15-2011-3550
END:VEVENT

END:VCALENDAR
