BEGIN:VCALENDAR
VERSION:2.0
PRODID:-//ChamberMaster//Event Calendar 2.0//EN
METHOD:PUBLISH
X-PUBLISHED-TTL:P3D
REFRESH-INTERVAL:P3D
CALSCALE:GREGORIAN
BEGIN:VEVENT
DTSTART;VALUE=DATE:20100716
DTEND;VALUE=DATE:20100718
TRANSP:TRANSPARENT
X-MICROSOFT-CDO-ALLDAYEVENT:TRUE
SUMMARY:Erda Days
DESCRIPTION:Erda DaysContact: 435-882-4479 or435-882-8177
X-ALT-DESC;FMTTYPE=text/html:<div><font face="Frutiger-LightCn" size="1"><font face="Frutiger-LightCn" size="1"><p align="center"><font size="4">Erda Days</font></p><p align="center"><font size="4">Contact: 435-882-4479 or</font></p><p align="center"><font size="4">435-882-8177</font></p></font></font></div>
LOCATION:
UID:e.125.1010
SEQUENCE:3
DTSTAMP:20260423T012701Z
URL:https://members.tooelechamber.com/events/details/erda-days-07-16-2010-1010
END:VEVENT

END:VCALENDAR
