BEGIN:VCALENDAR
VERSION:2.0
PRODID:-//ChamberMaster//Event Calendar 2.0//EN
METHOD:PUBLISH
X-PUBLISHED-TTL:P3D
REFRESH-INTERVAL:P3D
CALSCALE:GREGORIAN
BEGIN:VEVENT
DTSTART;VALUE=DATE:20090912
DTEND;VALUE=DATE:20090913
TRANSP:TRANSPARENT
X-MICROSOFT-CDO-ALLDAYEVENT:TRUE
SUMMARY:Event at Alport Syndrome Foundation
DESCRIPTION:2nd Annual Utah Alport Syndrome 5K for Healthy Kidneys.  This is a family friendly 5K run/walk to benefit the Alport Syndrome Foundation.  Race participants will receive a moisture wicking t-shirt\, post race refreshments\, and entertainment.
X-ALT-DESC;FMTTYPE=text/html:2nd Annual Utah Alport Syndrome 5K for Healthy Kidneys.  This is a family friendly 5K run/walk to benefit the Alport Syndrome Foundation.  Race participants will receive a moisture wicking t-shirt\, post race refreshments\, and entertainment.  
LOCATION:England Acres Park (880 North 400 East) in Tooele
UID:e.125.2551
SEQUENCE:3
DTSTAMP:20260423T164535Z
URL:https://members.tooelechamber.com/events/details/event-at-alport-syndrome-foundation-09-12-2009-2551
END:VEVENT

END:VCALENDAR
