BEGIN:VCALENDAR
VERSION:2.0
PRODID:-//ChamberMaster//Event Calendar 2.0//EN
METHOD:PUBLISH
X-PUBLISHED-TTL:P3D
REFRESH-INTERVAL:P3D
CALSCALE:GREGORIAN
BEGIN:VEVENT
DTSTART;VALUE=DATE:20110528
DTEND;VALUE=DATE:20110529
TRANSP:TRANSPARENT
X-MICROSOFT-CDO-ALLDAYEVENT:TRUE
SUMMARY:Event at Miller Motorsports Park
DESCRIPTION:Miller Motor Sport Park   FIM Superbike World Championship USA Round    AMA Pro Road Racing    Larry H. Miller Superbike Challenge\n\n	Contact: toll free 866-297-2636\n\n	www.MillerMotorPark.com
X-ALT-DESC;FMTTYPE=text/html:<p class="MsoNormal" style="text-align: center\; margin: 0in 0in 0pt\; tab-stops: 1.25in">\n	<span style="font-size: 14pt"><font color="#000000"><font face="Times New Roman">Miller Motor Sport Park<span style="mso-spacerun: yes">&nbsp\; </span><span style="mso-spacerun: yes">&nbsp\;</span>FIM Superbike World Championship USA Round<span style="mso-spacerun: yes">&nbsp\;&nbsp\;&nbsp\; </span>AMA Pro Road Racing<span style="mso-spacerun: yes">&nbsp\;&nbsp\;&nbsp\; </span>Larry H. Miller Superbike Challenge<o:p></o:p></font></font></span></p>\n<p class="MsoNormal" style="text-align: center\; margin: 0in 0in 0pt">\n	<span style="font-size: 14pt"><font color="#000000"><font face="Times New Roman">Contact: toll free 866-297-2636<o:p></o:p></font></font></span></p>\n<p style="text-align: center">\n	<span style="font-family: 'times new roman'\, 'serif'\; font-size: 14pt\; mso-fareast-font-family: 'times new roman'\; mso-ansi-language: en-us\; mso-fareast-language: en-us\; mso-bidi-language: ar-sa"><a href="http://www.millermotorpark.com/"><span style="color: windowtext"><font face="Times New Roman">www.MillerMotorPark.com</font></span></a><span _fck_bookmark="1" style="display: none">&nbsp\;</span></span></p>\n
LOCATION:
UID:e.125.3519
SEQUENCE:3
DTSTAMP:20260422T092413Z
URL:https://members.tooelechamber.com/events/details/event-at-miller-motorsports-park-05-28-2011-3519
END:VEVENT

END:VCALENDAR
