BEGIN:VCALENDAR
VERSION:2.0
PRODID:-//ChamberMaster//Event Calendar 2.0//EN
METHOD:PUBLISH
X-PUBLISHED-TTL:P3D
REFRESH-INTERVAL:P3D
CALSCALE:GREGORIAN
BEGIN:VEVENT
DTSTART;VALUE=DATE:20110624
DTEND;VALUE=DATE:20110627
TRANSP:TRANSPARENT
X-MICROSOFT-CDO-ALLDAYEVENT:TRUE
SUMMARY:Event at Miller Motorsports Park
DESCRIPTION:Miller Motorsports Park Lucas Oil Offroad Racing Series\n\n	CruiserFest 2011\n\n	Contact: toll free 866-297-2636\n\n	www.MillerMotorPark.com
X-ALT-DESC;FMTTYPE=text/html:<p class="MsoNormal" style="text-align: center\; margin: 0in 0in 0pt">\n	<span style="font-size: 20px"><font color="#000000"><font face="Times New Roman">Miller Motorsports Park Lucas Oil Offroad Racing Series<br />\n	CruiserFest 2011</font></font></span><span style="font-size: 14pt"><font color="#000000"><font face="Times New Roman"><o:p></o:p></font></font></span></p>\n<p class="MsoNormal" style="text-align: center\; margin: 0in 0in 0pt">\n	<span style="font-size: 20px"><font color="#000000"><font face="Times New Roman">Contact: toll free 866-297-2636</font></font></span><span style="font-size: 14pt"><font color="#000000"><font face="Times New Roman"><o:p></o:p></font></font></span></p>\n<p style="text-align: center">\n	<span style="font-size: 20px"><span style="font-family: 'times new roman'\, 'serif'\; mso-fareast-font-family: 'times new roman'\; mso-ansi-language: en-us\; mso-fareast-language: en-us\; mso-bidi-language: ar-sa"><a href="http://www.millermotorpark.com/"><span style="color: windowtext"><font face="Times New Roman">www.MillerMotorPark.com</font></span></a></span></span><span style="font-family: 'times new roman'\, 'serif'\; font-size: 14pt\; mso-fareast-font-family: 'times new roman'\; mso-ansi-language: en-us\; mso-fareast-language: en-us\; mso-bidi-language: ar-sa"><span _fck_bookmark="1" style="display: none">&nbsp\;</span></span></p>\n
LOCATION:
UID:e.125.3540
SEQUENCE:3
DTSTAMP:20260422T091702Z
URL:https://members.tooelechamber.com/events/details/event-at-miller-motorsports-park-06-24-2011-3540
END:VEVENT

END:VCALENDAR
