BEGIN:VCALENDAR
VERSION:2.0
PRODID:-//ChamberMaster//Event Calendar 2.0//EN
METHOD:PUBLISH
X-PUBLISHED-TTL:P3D
REFRESH-INTERVAL:P3D
CALSCALE:GREGORIAN
BEGIN:VEVENT
DTSTART;VALUE=DATE:20110611
DTEND;VALUE=DATE:20110612
TRANSP:TRANSPARENT
X-MICROSOFT-CDO-ALLDAYEVENT:TRUE
SUMMARY:Event at Ophir Historic District
DESCRIPTION:Event at Ophir Historic District\n\n	Saturday\, June 11\, 2011
X-ALT-DESC;FMTTYPE=text/html:<p style="text-align: center">\n	<span style="font-size: 20px">Event at Ophir Historic District<br />\n	Saturday\, June 11\, 2011</span></p>\n
LOCATION:
UID:e.125.3534
SEQUENCE:3
DTSTAMP:20260422T091328Z
URL:https://members.tooelechamber.com/events/details/event-at-ophir-historic-district-06-11-2011-3534
END:VEVENT

END:VCALENDAR
