BEGIN:VCALENDAR
VERSION:2.0
PRODID:-//ChamberMaster//Event Calendar 2.0//EN
METHOD:PUBLISH
X-PUBLISHED-TTL:P3D
REFRESH-INTERVAL:P3D
CALSCALE:GREGORIAN
BEGIN:VEVENT
DTSTART:20100519T173000Z
DTEND:20100519T190000Z
X-MICROSOFT-CDO-ALLDAYEVENT:FALSE
SUMMARY:Event at TooeleMommies.com
DESCRIPTION:All are welcome to join us at McDonald's for a Playdate and some lunch.
X-ALT-DESC;FMTTYPE=text/html:<div style="text-align: center"><span style="font-size: x-large">All are welcome to join us at McDonald&rsquo\;s for a Playdate and some lunch. </span></div>
LOCATION:McDonalds by Macey's
UID:e.125.3167
SEQUENCE:3
DTSTAMP:20260423T062144Z
URL:https://members.tooelechamber.com/events/details/event-at-tooelemommies-com-05-19-2010-3167
END:VEVENT

END:VCALENDAR
