BEGIN:VCALENDAR
VERSION:2.0
PRODID:-//ChamberMaster//Event Calendar 2.0//EN
METHOD:PUBLISH
X-PUBLISHED-TTL:P3D
REFRESH-INTERVAL:P3D
CALSCALE:GREGORIAN
BEGIN:VEVENT
DTSTART:20100521T170000Z
DTEND:20100521T180000Z
X-MICROSOFT-CDO-ALLDAYEVENT:FALSE
SUMMARY:Event at TooeleMommies.com
DESCRIPTION:All are Welcome to join us for fun at the park in Grantsville.This will be at the park at the entrance of the South Willow Estates.
X-ALT-DESC;FMTTYPE=text/html:<div style="text-align: center"><span style="font-size: x-large">All are Welcome to join us for fun at the park in Grantsville.This will be at the park at the entrance of the South Willow Estates. <br /></span><br />&nbsp\;</div>
LOCATION:This will be at the park at the entrance of the South Willow Estates. from Tooele\, utah ave\, turn on durfee street (first left after the speed limit turns 35) follow durfee street to willow street first stop sign turn left on willow follow it all the way into the estates on your right at the stop is the park
UID:e.125.3168
SEQUENCE:3
DTSTAMP:20260423T062340Z
URL:https://members.tooelechamber.com/events/details/event-at-tooelemommies-com-05-21-2010-3168
END:VEVENT

END:VCALENDAR
