BEGIN:VCALENDAR
VERSION:2.0
PRODID:-//ChamberMaster//Event Calendar 2.0//EN
METHOD:PUBLISH
X-PUBLISHED-TTL:P3D
REFRESH-INTERVAL:P3D
CALSCALE:GREGORIAN
BEGIN:VEVENT
DTSTART:20100524T170000Z
DTEND:20100524T190000Z
X-MICROSOFT-CDO-ALLDAYEVENT:FALSE
SUMMARY:Event at TooeleMommies.com
DESCRIPTION:Come meet have lunch and enjoy adult time while the kiddos play!
X-ALT-DESC;FMTTYPE=text/html:Come meet have lunch and enjoy adult time while the kiddos play!
LOCATION:Carls Jr.
UID:e.125.3171
SEQUENCE:3
DTSTAMP:20260423T044748Z
URL:https://members.tooelechamber.com/events/details/event-at-tooelemommies-com-05-24-2010-3171
END:VEVENT

END:VCALENDAR
