BEGIN:VCALENDAR
VERSION:2.0
PRODID:-//ChamberMaster//Event Calendar 2.0//EN
METHOD:PUBLISH
X-PUBLISHED-TTL:P3D
REFRESH-INTERVAL:P3D
CALSCALE:GREGORIAN
BEGIN:VEVENT
DTSTART:20110316T180000Z
DTEND:20110316T190000Z
X-MICROSOFT-CDO-ALLDAYEVENT:FALSE
SUMMARY:Facebook Profile Setup
DESCRIPTION:Mini-Lesson \n\n	Lunch N Learn Series \n\n	Presented by: Tooele Applied Technology College \n\n	66 West Vine Street\, Tooele\n\n	Free to the public\, includes pizza lunch!\n\n	Limited seating\, RSVP's accepted for accurate lunch count \n\n	 \n\n	Facebook Profile Setup with Joe Mena\n\n	Learn what you need to know about Facebook privacy - what and what not to post.
X-ALT-DESC;FMTTYPE=text/html:<p style="text-align: center">\n	<span style="font-size: 16px">Mini-Lesson </span></p>\n<p style="text-align: center">\n	<span style="font-size: 16px">Lunch N Learn Series </span></p>\n<p style="text-align: center">\n	<span style="font-size: 16px">Presented by: Tooele Applied Technology College </span></p>\n<p style="text-align: center">\n	<span style="font-size: 16px">66 West Vine Street\, Tooele<br />\n	Free to the public\, includes pizza lunch!<br />\n	Limited seating\, RSVP&#39\;s accepted for accurate lunch count </span><br />\n	&nbsp\;</p>\n<p style="text-align: center">\n	<span style="font-size: 16px">Facebook Profile Setup with Joe Mena<br />\n	Learn what you need to know about Facebook privacy - what and what not to post. </span><br />\n	&nbsp\;</p>\n
LOCATION:
UID:e.125.3585
SEQUENCE:3
DTSTAMP:20260422T121522Z
URL:https://members.tooelechamber.com/events/details/facebook-profile-setup-03-16-2011-3585
END:VEVENT

END:VCALENDAR
