BEGIN:VCALENDAR
VERSION:2.0
PRODID:-//ChamberMaster//Event Calendar 2.0//EN
METHOD:PUBLISH
X-PUBLISHED-TTL:P3D
REFRESH-INTERVAL:P3D
CALSCALE:GREGORIAN
BEGIN:VEVENT
DTSTART:20100918T160000Z
DTEND:20100918T220000Z
X-MICROSOFT-CDO-ALLDAYEVENT:FALSE
SUMMARY:''Fall'' In Love With Downtown!
DESCRIPTION:"Fall" In Love With Downtown!Saturday\, September 18\, 2010 From 10am-4pmDowntown Sidwalk Sale & Visual Scavenger Hunt Many of the downtown businesses have joined together to have a GIANT sidewalk sale! While you are shopping\, look for things that have "fell" out of place\, mark it on your scavenger hunt form and return it to City Hall to be entered for a drawing!
X-ALT-DESC;FMTTYPE=text/html:<div style="text-align: center"><span style="font-size: large"><span style="font-family: Verdana"><u><strong>&quot\;Fall&quot\; In Love With Downtown!</strong></u></span></span></div><div style="text-align: center"><span style="font-size: large"><span style="font-family: Verdana">Saturday\, September 18\, 2010 </span></span></div><div style="text-align: center"><span style="font-size: large"><span style="font-family: Verdana">From 10am-4pm</span></span></div><div style="text-align: center"><span style="font-size: large"><span style="font-family: Verdana">Downtown Sidwalk Sale &amp\; </span></span></div><div style="text-align: center"><span style="font-size: large"><span style="font-family: Verdana">Visual Scavenger Hunt </span></span></div><div style="text-align: center"><span style="font-size: large"><span style="font-family: Verdana">Many of the downtown businesses have joined together to have a GIANT sidewalk sale! While you are shopping\, look for things that have &quot\;fell&quot\; out of place\, mark it on your scavenger hunt form and return it to City Hall to be entered for a drawing!</span></span></div>
LOCATION:
UID:e.125.3226
SEQUENCE:3
DTSTAMP:20260422T215909Z
URL:https://members.tooelechamber.com/events/details/fall-in-love-with-downtown-09-18-2010-3226
END:VEVENT

END:VCALENDAR
