BEGIN:VCALENDAR
VERSION:2.0
PRODID:-//ChamberMaster//Event Calendar 2.0//EN
METHOD:PUBLISH
X-PUBLISHED-TTL:P3D
REFRESH-INTERVAL:P3D
CALSCALE:GREGORIAN
BEGIN:VEVENT
DTSTART:20081025T190000Z
DTEND:20081025T220000Z
X-MICROSOFT-CDO-ALLDAYEVENT:FALSE
SUMMARY:Familt Halloween Carnival
DESCRIPTION:Oct. 25th- Family Halloween Carnival Tooele City Complex \n 350 West 400 North1-4 pm\n Cost- 1 can of food
X-ALT-DESC;FMTTYPE=text/html:<p align="center"><font face="Times New Roman" color="#ff6600" size="5">Oct. 25th- Family Halloween Carnival </font></p><p align="center"><font face="Times New Roman" color="#ff6600" size="5">Tooele City Complex <br />&nbsp\;350 West 400 North</font></p><p align="center"><font face="Times New Roman" color="#ff6600" size="5">1-4 pm<br />&nbsp\;Cost- 1 can of food</font></p>
LOCATION:
UID:e.125.476
SEQUENCE:3
DTSTAMP:20260424T110605Z
URL:https://members.tooelechamber.com/events/details/familt-halloween-carnival-10-25-2008-476
END:VEVENT

END:VCALENDAR
