BEGIN:VCALENDAR
VERSION:2.0
PRODID:-//ChamberMaster//Event Calendar 2.0//EN
METHOD:PUBLISH
X-PUBLISHED-TTL:P3D
REFRESH-INTERVAL:P3D
CALSCALE:GREGORIAN
BEGIN:VEVENT
DTSTART:20090519T010000Z
DTEND:20090519T023000Z
X-MICROSOFT-CDO-ALLDAYEVENT:FALSE
SUMMARY:Family Fitness Challenge
DESCRIPTION:Date: Monday\, May 18\, 2009Time: 7-8:30 p.m.Location: England Acres Park\,910 North 400 East\, TooeleWho: Families of All Ages!!!Come join the Family Challenge. There will be fun activities and prizes and awards to win!!!Please Pre-register  Terra @ 843-2142 orterras@tooelecity.org byThursday\, May 14th.
X-ALT-DESC;FMTTYPE=text/html:<div><strong><font face="ComicSansMS-Bold" color="#ff0000" size="2"><font face="ComicSansMS-Bold" color="#ff0000" size="2"><font face="ComicSansMS-Bold" color="#ff0000" size="2"><p align="center"><font size="4">Date: Monday\, </font><font size="4">May 18\, 2009</font></p><p align="center"><font size="4">Time: 7-8:30 p.m.</font></p><p align="center"><font size="4">Location: England </font><font size="4">Acres Park\,</font></p><p align="center"><font size="4">910 North </font><font size="4">400 East\, Tooele</font></p><p align="center"><font size="4">Who: Families of All </font><font size="4">Ages!!!</font></p></font></font></font><font face="Arial Narrow"><p align="center"><font size="4">Come join the Family </font><font size="4">Challenge. There will </font><font size="4">be fun activities and </font></p><p align="center"><font size="4">prizes and awards to </font><font size="4">win!!!</font></p></font><strong><font face="ComicSansMS-Bold" color="#ff0000"><font face="ComicSansMS-Bold" color="#ff0000"><font face="ComicSansMS-Bold" color="#ff0000"><p align="center"><font size="4">Please Pre-register&nbsp\;</font>&nbsp\;</p></font></font></font></strong></strong></div><p align="center"><font size="4">Terra @ 843-2142 or</font></p><p align="center"><font size="4">terras@tooelecity.org by</font></p><p align="center"><font size="4">Thursday\, May 14th.</font></p>
LOCATION:
UID:e.125.2523
SEQUENCE:3
DTSTAMP:20260423T232354Z
URL:https://members.tooelechamber.com/events/details/family-fitness-challenge-05-18-2009-2523
END:VEVENT

END:VCALENDAR
