BEGIN:VCALENDAR
VERSION:2.0
PRODID:-//ChamberMaster//Event Calendar 2.0//EN
METHOD:PUBLISH
X-PUBLISHED-TTL:P3D
REFRESH-INTERVAL:P3D
CALSCALE:GREGORIAN
BEGIN:VEVENT
DTSTART:20121027T190000Z
DTEND:20121027T220000Z
X-MICROSOFT-CDO-ALLDAYEVENT:FALSE
SUMMARY:Family Halloween Carnival
DESCRIPTION:TOGETHER WITH YOU\n\nPRESENT THE 21ST ANNUAL\n\nFAMILY HALLOWEEN CARNIVAL\n\n\n\nSATURDAY\, OCTOBER 27\,2012\n\n1:00-4:00P.M\n\nDOWN JAMES BUILDING- 438 WEST 400 NORTH TOOELE\n\n\n\nFOOD*GAMES* FORTUNE TELLING* FACE PAINTING* COOKIE DECORATING* COSTUME PARADE (AT 2:30) AND MUCH MORE.\n\n\n\nCOST: 1 CAN OF FOOD TO BE DONATED TO THE TOOELE FOOD BANK.\n\nCOME ENJOY THE FUN!!! FOOD AND FUN ARE FREE\n\nTHIS IS A DRUG AND VIOLENCE FREE ACTIVITY
X-ALT-DESC;FMTTYPE=text/html:<span style="font-size: 18px"><u><strong><span style="color: #ff8c00">TOGETHER WITH YOU<br />\nPRESENT THE 21ST ANNUAL<br />\nFAMILY HALLOWEEN CARNIVAL</span></strong></u></span><br />\n<br />\nSATURDAY\, OCTOBER 27\,2012<br />\n1:00-4:00P.M<br />\nDOWN JAMES BUILDING- 438 WEST 400 NORTH TOOELE<br />\n<br />\nFOOD*GAMES* FORTUNE TELLING* FACE PAINTING* COOKIE DECORATING* COSTUME PARADE (AT 2:30) AND MUCH MORE.<br />\n<br />\nCOST: 1 CAN OF FOOD TO BE DONATED TO THE TOOELE FOOD BANK.<br />\nCOME ENJOY THE FUN!!! FOOD AND FUN ARE FREE<br />\nTHIS IS A DRUG AND VIOLENCE FREE ACTIVITY
LOCATION:
UID:e.125.4937
SEQUENCE:3
DTSTAMP:20260421T052502Z
URL:https://members.tooelechamber.com/events/details/family-halloween-carnival-10-27-2012-4937
END:VEVENT

END:VCALENDAR
