BEGIN:VCALENDAR
VERSION:2.0
PRODID:-//ChamberMaster//Event Calendar 2.0//EN
METHOD:PUBLISH
X-PUBLISHED-TTL:P3D
REFRESH-INTERVAL:P3D
CALSCALE:GREGORIAN
BEGIN:VEVENT
DTSTART:20120612T000000Z
DTEND:20120612T013000Z
X-MICROSOFT-CDO-ALLDAYEVENT:FALSE
SUMMARY:Family Hike in Settlement Cayon
DESCRIPTION:Family Hike in Settlement Cayon.\n\nCome and have a family fun night.\n\nStarting at 6pm.
X-ALT-DESC;FMTTYPE=text/html:<span style="font-size: 18px"><strong><u>Family Hike in Settlement Cayon.</u><br />\nCome and have a family fun night.<br />\nStarting at 6pm.</strong></span>
LOCATION:
UID:e.125.4854
SEQUENCE:3
DTSTAMP:20260421T141117Z
URL:https://members.tooelechamber.com/events/details/family-hike-in-settlement-cayon-06-11-2012-4854
END:VEVENT

END:VCALENDAR
