BEGIN:VCALENDAR
VERSION:2.0
PRODID:-//ChamberMaster//Event Calendar 2.0//EN
METHOD:PUBLISH
X-PUBLISHED-TTL:P3D
REFRESH-INTERVAL:P3D
CALSCALE:GREGORIAN
BEGIN:VEVENT
DTSTART:20100612T000000Z
DTEND:20100612T010000Z
X-MICROSOFT-CDO-ALLDAYEVENT:FALSE
SUMMARY:Family Sidewalk Chalk Art Contest
DESCRIPTION:Family Sidewalk Chalk Art Contest Who: Families of all agesWhen: Friday\, June 11\, 2010Time: 6-7pmPre-register by June 9th to 843-2142Great prizes from Downtown Merchants including: $50 Stowe's Family Music\, $25 gift certificate to Sweet Pea\, $10 gift certificate to Sweet Lizzie's\, $50 gift certificate to Homebodies\, $25 gift certificate to Home Touch\, and a gift from Grannies Closet!We will meet at Tooele City Hall (90 North Main Street). Your family will be assigned a section of sidewalk and you will be provided sidewalk chalk. The rest is up to you!!When your family has completed your sidewalk chalk art creation be sure to stop by the swimming pool park for the Friday's on Vine concert featuring jazz bands from THS\, GHS\, and SHS! Some of the downtown stores will be open late and running specials during sidewalk art contest. Check out Grannies closet and Homebodies!! Chalk Art Walk and Voting Saturday\, June 12\, 2010Where: Downtown Tooele(100 South to 200 North & 50 East to 50 West)Everyone is invited to come and see the masterpieces created by families and vote for your favorite one. Voting boxes will be at participating merchants.Stowe Family Music * Granny's Closet *Homebodies * Sweet Lizzie's * Home Touch * Sweet Pea Boutique
X-ALT-DESC;FMTTYPE=text/html:<div style="text-align: center"><span style="font-size: small"><u><strong>Family Sidewalk&nbsp\;Chalk Art Contest </strong></u></span></div><div style="text-align: center">Who: Families of all ages</div><div style="text-align: center">When: Friday\, June 11\, 2010</div><div style="text-align: center">Time: 6-7pm</div><div style="text-align: center">Pre-register by June 9th to 843-2142</div><div style="text-align: center">Great prizes from Downtown Merchants including: $50 Stowe's Family Music\, $25 gift certificate to Sweet Pea\, $10 gift certificate to Sweet Lizzie's\, $50 gift certificate to Homebodies\, $25 gift certificate to Home Touch\, and a gift from Grannies Closet!</div><div style="text-align: center">We will meet at Tooele City Hall (90 North Main Street). Your family will be assigned a section of sidewalk and you will be provided sidewalk chalk. The rest is up to you!!</div><div style="text-align: center">When your family has completed your sidewalk chalk art creation be sure to stop by the swimming pool park for the Friday's on Vine concert featuring jazz bands from THS\, GHS\, and SHS! Some of the downtown stores will be open late and running specials during sidewalk art contest. Check out Grannies closet and Homebodies!!</div><div style="text-align: center">&nbsp\;</div><div style="text-align: center"><span style="font-size: small"><u><strong>Chalk Art Walk and Voting </strong></u></span></div><div style="text-align: center">Saturday\, June 12\, 2010</div><div style="text-align: center">Where: Downtown Tooele</div><div style="text-align: center">(100 South to 200 North &amp\; 50 East to 50 West)</div><div style="text-align: center">Everyone is invited to come and see the masterpieces created by families and vote for your favorite one. Voting boxes will be at participating merchants.</div><div style="text-align: center">Stowe Family Music * Granny's Closet *Homebodies * Sweet Lizzie's * Home Touch * Sweet Pea Boutique</div>
LOCATION:
UID:e.125.3180
SEQUENCE:3
DTSTAMP:20260423T031831Z
URL:https://members.tooelechamber.com/events/details/family-sidewalk-chalk-art-contest-06-11-2010-3180
END:VEVENT

END:VCALENDAR
