BEGIN:VCALENDAR
VERSION:2.0
PRODID:-//ChamberMaster//Event Calendar 2.0//EN
METHOD:PUBLISH
X-PUBLISHED-TTL:P3D
REFRESH-INTERVAL:P3D
CALSCALE:GREGORIAN
BEGIN:VEVENT
DTSTART:20080422T000000Z
DTEND:20080422T030000Z
X-MICROSOFT-CDO-ALLDAYEVENT:FALSE
SUMMARY:Family Swim Day
DESCRIPTION:Monday April 21st\, 20086pm to 9pmPratt Aquatic Center55 North 200 West This is a family event. All youth must be accompanied by an adult.Children shorter than 3 feet 11 inches must have an adult in the pool with them at all times.Must present coupon.
X-ALT-DESC;FMTTYPE=text/html:<div><div>Monday April 21st\, 2008</div><div>6pm to 9pm</div><div>Pratt Aquatic Center</div><div>55 North 200 West</div><div>&nbsp\;</div>This is a family event. All youth must be accompanied by an adult.</div><div>Children shorter than 3 feet 11 inches must have an adult in the pool with them at all times.</div><div>Must present coupon.</div><div>&nbsp\;</div><div>&nbsp\;</div>
LOCATION:
UID:e.125.388
SEQUENCE:3
DTSTAMP:20260424T220343Z
URL:https://members.tooelechamber.com/events/details/family-swim-day-04-21-2008-388
END:VEVENT

END:VCALENDAR
