BEGIN:VCALENDAR
VERSION:2.0
PRODID:-//ChamberMaster//Event Calendar 2.0//EN
METHOD:PUBLISH
X-PUBLISHED-TTL:P3D
REFRESH-INTERVAL:P3D
CALSCALE:GREGORIAN
BEGIN:VEVENT
DTSTART:20090214T013000Z
DTEND:20090214T033000Z
X-MICROSOFT-CDO-ALLDAYEVENT:FALSE
SUMMARY:Family Valentine's Dance
DESCRIPTION:Free Family Dance for families of all ages.  Prizes!  Family photographs will be taken by a professional photographer.  There is no sitting fee.  Photos will be available to view at the Tooele Inkley's the following day\, and you will be able to purchase photos at a great price!
X-ALT-DESC;FMTTYPE=text/html:Free Family Dance for families of all ages.  Prizes!  Family photographs will be taken by a professional photographer.  There is no sitting fee.  Photos will be available to view at the Tooele Inkley's the following day\, and you will be able to purchase photos at a great price!
LOCATION:Dow James Building (438 W. 400 N.\, Tooele)
UID:e.125.530
SEQUENCE:3
DTSTAMP:20260424T053552Z
URL:https://members.tooelechamber.com/events/details/family-valentine-s-dance-02-13-2009-530
END:VEVENT

END:VCALENDAR
