BEGIN:VCALENDAR
VERSION:2.0
PRODID:-//ChamberMaster//Event Calendar 2.0//EN
METHOD:PUBLISH
X-PUBLISHED-TTL:P3D
REFRESH-INTERVAL:P3D
CALSCALE:GREGORIAN
BEGIN:VEVENT
DTSTART;VALUE=DATE:20110923
DTEND;VALUE=DATE:20110926
TRANSP:TRANSPARENT
X-MICROSOFT-CDO-ALLDAYEVENT:TRUE
SUMMARY:Festival of the Old West/ Gem Show
DESCRIPTION:Festival of the Old West/Gem Show\n\n	September 23rd-25th\, 2011\n\n	Contact: 801-554-0527
X-ALT-DESC;FMTTYPE=text/html:<p style="text-align: center">\n	<span style="font-size: 20px">Festival of the Old West/Gem Show<br />\n	September 23rd-25th\, 2011<br />\n	Contact: 801-554-0527</span></p>\n
LOCATION:
UID:e.125.3572
SEQUENCE:3
DTSTAMP:20260422T043838Z
URL:https://members.tooelechamber.com/events/details/festival-of-the-old-west-gem-show-09-23-2011-3572
END:VEVENT

END:VCALENDAR
