BEGIN:VCALENDAR
VERSION:2.0
PRODID:-//ChamberMaster//Event Calendar 2.0//EN
METHOD:PUBLISH
X-PUBLISHED-TTL:P3D
REFRESH-INTERVAL:P3D
CALSCALE:GREGORIAN
BEGIN:VEVENT
DTSTART:20121013T160000Z
DTEND:20121013T200000Z
X-MICROSOFT-CDO-ALLDAYEVENT:FALSE
SUMMARY:Fire Prevention 5k Fun Run/ Walk
DESCRIPTION:FIRE PREVENTION 5K FUN RUN/WALK\n\n	\n\n	DATE: OCTOBER 13\, 2012\n\n	\n\n	TIME: REGISTRATION 8:00AM. RACE STARTS AT TOOELE CITY FIRE STATION #1 (90 NORTH MAIN)\n\n	\n\n	PLACE: 5K STARTS AND ENDS AT TOOELE CITY FIRE STATION #1 (90 NORTH MAIN)\n\n	\n\n	KIDS K5 STARTS AT STATION #2 (150 NOTHN 7TH STREET) AND ENDS AT STATION #1.\n\n	\n\n	SPONSORED BY: TOOELE CITY LADIES FIRE AUXILIARY.\n\n	\n\n	T-SHIRTS FOR 5K PARTICIPANTS REGISTERED BY OCOBER 5TH! Click here to edit...
X-ALT-DESC;FMTTYPE=text/html:<div style="color: gray">\n	<span style="font-size: 18px"><u><span style="color: #4b0082">FIRE PREVENTION 5K FUN RUN/WALK</span></u></span><br />\n	<br />\n	<span style="font-size: 14px">DATE: OCTOBER 13\, 2012<br />\n	<br />\n	TIME: REGISTRATION 8:00AM. RACE STARTS AT TOOELE CITY FIRE STATION #1 (90 NORTH MAIN)<br />\n	<br />\n	PLACE: 5K STARTS AND ENDS AT TOOELE CITY FIRE STATION #1 (90 NORTH MAIN)<br />\n	<br />\n	KIDS K5 STARTS AT STATION #2 (150 NOTHN 7TH STREET) AND ENDS AT STATION #1.<br />\n	<br />\n	SPONSORED BY: TOOELE CITY LADIES FIRE AUXILIARY.<br />\n	<br />\n	T-SHIRTS FOR 5K PARTICIPANTS REGISTERED BY OCOBER 5TH!<span _fck_bookmark="1" style="display: none">&nbsp\;</span></span>Click here to edit...</div>\n
LOCATION:
UID:e.125.4931
SEQUENCE:3
DTSTAMP:20260421T052048Z
URL:https://members.tooelechamber.com/events/details/fire-prevention-5k-fun-run-walk-10-13-2012-4931
END:VEVENT

END:VCALENDAR
