BEGIN:VCALENDAR
VERSION:2.0
PRODID:-//ChamberMaster//Event Calendar 2.0//EN
METHOD:PUBLISH
X-PUBLISHED-TTL:P3D
REFRESH-INTERVAL:P3D
CALSCALE:GREGORIAN
BEGIN:VEVENT
DTSTART;VALUE=DATE:20101009
DTEND;VALUE=DATE:20101017
TRANSP:TRANSPARENT
X-MICROSOFT-CDO-ALLDAYEVENT:TRUE
SUMMARY:First Ever Book Sale @ Jackrabbit Press
DESCRIPTION:October 9th - 16th \n\n	First Ever Book Sale \n\n	All Regularly Priced Books are 50% off!!! \n\n	(special reserve collection does not apply) \n\n	Take advantage of our collection of 19th & 20th Century Books \n\n	Find a special treasure for Christmas.
X-ALT-DESC;FMTTYPE=text/html:<p style="text-align: center">\n	&nbsp\;</p>\n<p style="text-align: center">\n	<b><font size="6">October 9</font><font size="5">th </font><font size="6">- 16</font><font size="5">th </font></b><br />\n	<font face="Bernhard BdCn BT\,Bernhard Bold Condensed" size="7"><font face="Bernhard BdCn BT\,Bernhard Bold Condensed" size="7">First Ever Book Sale </font></font></p>\n<p style="text-align: center">\n	<font face="Times New Roman\,Times New Roman" size="4"><font face="Times New Roman\,Times New Roman" size="4">All Regularly Priced Books are 50% off!!! </font></font></p>\n<p style="text-align: center">\n	<font face="Times New Roman\,Times New Roman" size="3"><font face="Times New Roman\,Times New Roman" size="3">(special reserve collection does not apply) </font></font></p>\n<p style="text-align: center">\n	<i><font face="Times New Roman\,Times New Roman" size="4"><font face="Times New Roman\,Times New Roman" size="4">Take advantage of our collection of 19</font></font><font face="Times New Roman\,Times New Roman" size="1"><font face="Times New Roman\,Times New Roman" size="1">th </font></font><font face="Times New Roman\,Times New Roman" size="4"><font face="Times New Roman\,Times New Roman" size="4">&amp\; 20</font></font><font face="Times New Roman\,Times New Roman" size="1"><font face="Times New Roman\,Times New Roman" size="1">th </font></font><font face="Times New Roman\,Times New Roman" size="4"><font face="Times New Roman\,Times New Roman" size="4">Century Books </font></font></i></p>\n<p style="text-align: center">\n	<font face="Times New Roman\,Times New Roman" size="4"><font face="Times New Roman\,Times New Roman" size="4">Find a special treasure for Christmas. </font></font></p>\n
LOCATION:
UID:e.125.3259
SEQUENCE:3
DTSTAMP:20260422T220015Z
URL:https://members.tooelechamber.com/events/details/first-ever-book-sale-jackrabbit-press-10-09-2010-3259
END:VEVENT

END:VCALENDAR
