BEGIN:VCALENDAR
VERSION:2.0
PRODID:-//ChamberMaster//Event Calendar 2.0//EN
METHOD:PUBLISH
X-PUBLISHED-TTL:P3D
REFRESH-INTERVAL:P3D
CALSCALE:GREGORIAN
BEGIN:VEVENT
DTSTART;VALUE=DATE:20140610
DTEND;VALUE=DATE:20140612
TRANSP:TRANSPARENT
X-MICROSOFT-CDO-ALLDAYEVENT:TRUE
SUMMARY:Food for fines
DESCRIPTION:Thank you for your support of the Grantsville Food Bank.
X-ALT-DESC;FMTTYPE=text/html:Thank you for your support of the Grantsville Food Bank.
LOCATION:
UID:e.125.5519
SEQUENCE:3
DTSTAMP:20260419T162743Z
URL:https://members.tooelechamber.com/events/details/food-for-fines-ends-06-10-2014-5519
END:VEVENT

END:VCALENDAR
