BEGIN:VCALENDAR
VERSION:2.0
PRODID:-//ChamberMaster//Event Calendar 2.0//EN
METHOD:PUBLISH
X-PUBLISHED-TTL:P3D
REFRESH-INTERVAL:P3D
CALSCALE:GREGORIAN
BEGIN:VEVENT
DTSTART;VALUE=DATE:20140527
DTEND;VALUE=DATE:20140529
TRANSP:TRANSPARENT
X-MICROSOFT-CDO-ALLDAYEVENT:TRUE
SUMMARY:Food for Fines
DESCRIPTION:Grantsville City Library Food for Fines Program\n\nExchange canned goods and other food items for your library overdue fines. All items will be collected from May 27 - June 10\, 2014 to help the Grantsville City Food Bank.\n\nLibrary members will receive $1* in current overdue fines waived for each can or package of the following food items brought to the circulation desk at the library:\n\nCanned goods \nItems in boxes or plastic bags/jars \n(NO GLASS containers)\n\nFor further information\, please call the library @ (435) 884-1670 or stop by and visit us.\n\n*Change cannot be given.\n\nThank you
X-ALT-DESC;FMTTYPE=text/html:Grantsville City Library Food for Fines Program\n\nExchange canned goods and other food items for your library overdue fines. All items will be collected from May 27 - June 10\, 2014 to help the Grantsville City Food Bank.\n\nLibrary members will receive $1* in current overdue fines waived for each can or package of the following food items brought to the circulation desk at the library:\n\nCanned goods \nItems in boxes or plastic bags/jars \n(NO GLASS containers)\n\nFor further information\, please call the library @ (435) 884-1670 or stop by and visit us.\n\n*Change cannot be given.\n\nThank you
LOCATION:
UID:e.125.5518
SEQUENCE:3
DTSTAMP:20260419T182004Z
URL:https://members.tooelechamber.com/events/details/food-for-fines-starts-05-27-2014-5518
END:VEVENT

END:VCALENDAR
