BEGIN:VCALENDAR
VERSION:2.0
PRODID:-//ChamberMaster//Event Calendar 2.0//EN
METHOD:PUBLISH
X-PUBLISHED-TTL:P3D
REFRESH-INTERVAL:P3D
CALSCALE:GREGORIAN
BEGIN:VEVENT
DTSTART;VALUE=DATE:20110203
DTEND;VALUE=DATE:20110301
TRANSP:TRANSPARENT
X-MICROSOFT-CDO-ALLDAYEVENT:TRUE
SUMMARY:Free Tax Preparation for Income-Eligible
DESCRIPTION:Free Tax Preparation for Income-Eligible\n\n	Have Your taxes done for FREE by certified tax preparation volunteers. The VITA (volunteer income tax assistance) site will again be held through USU Extension at 151 N. Main (the county health building). You MUST have an appointment in order to get your taxes done. Call 211 to set up an appointment and check if your income qualifies. Tax preparation begins on February 3rd. Questions? Call Darlene at 435-277-2406.
X-ALT-DESC;FMTTYPE=text/html:<p class="MsoNormal" style="margin: 0in 0in 0pt">\n	<b><font size="3"><font color="#000000"><font face="Calibri">Free Tax Preparation for Income-Eligible<o:p></o:p></font></font></font></b></p>\n<p class="MsoNormal" style="margin: 0in 0in 0pt">\n	<font color="#000000"><font face="Calibri"><font size="3">Have Your taxes done for FREE by certified tax preparation volunteers. The VITA (volunteer income tax assistance) site will again be held through USU Extension at 151 N. Main (the county health building). You <u>MUST</u> have an appointment in order to get your taxes done. Call 211 to set up an appointment and check if your income qualifies. Tax preparation begins on February 3</font><sup><font size="2">rd</font></sup><font size="3">. Questions? Call Darlene at 435-277-2406.<span _fck_bookmark="1" style="display: none">&nbsp\;</span></font></font></font></p>\n
LOCATION:
UID:e.125.3611
SEQUENCE:3
DTSTAMP:20260422T140248Z
URL:https://members.tooelechamber.com/events/details/free-tax-preparation-for-income-eligible-02-03-2011-3611
END:VEVENT

END:VCALENDAR
