BEGIN:VCALENDAR
VERSION:2.0
PRODID:-//ChamberMaster//Event Calendar 2.0//EN
METHOD:PUBLISH
X-PUBLISHED-TTL:P3D
REFRESH-INTERVAL:P3D
CALSCALE:GREGORIAN
BEGIN:VEVENT
DTSTART;VALUE=DATE:20110120
DTEND;VALUE=DATE:20110121
TRANSP:TRANSPARENT
X-MICROSOFT-CDO-ALLDAYEVENT:TRUE
SUMMARY:FREE Tax Seminar
DESCRIPTION:Join us for a FREE Tax Seminar\n\n	 \n\n	Sponsored by H&R Block\n\n	 \n\n	Presented by Utah State University Tooele Regional Campus
X-ALT-DESC;FMTTYPE=text/html:<p style="text-align: center">\n	<span style="font-size: 20px">Join us for a FREE Tax Seminar</span><br />\n	&nbsp\;</p>\n<p style="text-align: center">\n	<span style="font-size: 20px">Sponsored by H&amp\;R Block</span><br />\n	&nbsp\;</p>\n<p>\n	<span style="font-size: 20px">Presented by Utah State University Tooele Regional Campus</span><br />\n	<br />\n	&nbsp\;</p>\n
LOCATION:USU Tooele Regional Campus 1021 West Vine Street Tooele
UID:e.125.3597
SEQUENCE:3
DTSTAMP:20260422T154758Z
URL:https://members.tooelechamber.com/events/details/free-tax-seminar-01-20-2011-3597
END:VEVENT

END:VCALENDAR
